BEGIN:VCALENDAR
VERSION:2.0
PRODID:-//jEvents 1.5 for Joomla//EN
BEGIN:VEVENT
CALSCALE:GREGORIAN
METHOD:PUBLISH

UID:3f007d0cb7c7993e195fd66eb560feaa
CATEGORIES:Egyéb kapcsolódó tanfolyam
SUMMARY:EgriBiologikaKör: Biologika KULCSOK tanfolyam 1/2 (Budapest)
LOCATION:Budapest,XIII.ker. Pozsonyi út 42. 2.em. 1., 11-es kapucsengő
DESCRIPTION;ENCODING=QUOTED-PRINTABLE:\n\nBIOLOGIKA "KULCSOK" TANFOLYAM\n2 napos tanfolyam BUDAPESTEN\n\n\n\n\n \
 n\n\ntréner: Pindrok Beáta&nbsp; \n\n\nhelyszín: Budapest,XIII.kerület 
 Pozsonyi út 42. 2.em. 1. , 11-es kapucsengő\n\n\n\nidőtartam: 2 nap, 201
 7. május 13-14.\n\n\nelőfeltétel: A 4 napos alaptanfolyam elvégzése, v
 agy az Énlelő Alapítvány A. Alapok, 1 napos képzésén való részvét
 el.\nA tanfolyamhoz közel 70 oldalas jegyzetet biztosítunk.\n\nrészvéte
 li díj: 30 000 Ft/fő/2nap\n\nKedvezmények:- Családi kedvezmény:&nbsp;2
  közeli, egy háztartásban élő családtag, ugyanazon tanfolyamra tört
 nő jelentkezése esetén 20% kedvezmény-&nbsp;Diák kedvezmény:&nbsp;12
 -18 év közötti diákok részére ingyenes a tanfolyam&nbsp;-&nbsp;Korán
 kelő kedvezmény: 1 000 Ft/fő/nap kedvezmény (családi kedvezmény eset
 n 700Ft/nap kedvezmény). Ennek igénybevételéhez a teljes összeget a t
 anfolyam előtt 3 héttel szükséges kifizetni. \n\n\n\njelentkezés:&nbsp
 ;írásos előregisztráció kötelező ezen a Jelentkezési lapon.\n\n\n\n
 \nEzen a két napon agyunk működésének megértésén keresztül rálát
 unk biológiai létünk, érzelmi állapotaink vezéreltségére, konfliktu
 saink típusaira, okaira, végleges megoldásainak lehetőségére.\n\n\n&n
 bsp;&nbsp;&nbsp; Ha megértjük agyunk irányító szerepét érzelmi álla
 potaink, viselkedésünk, konfliktusaink tekintetében,\n&nbsp;&nbsp;&nbsp;
  ha tudjuk, mi határozza meg, hogy mi okoz számunkra konfliktust, és mi 
 nem,\n&nbsp;&nbsp;&nbsp; ha ismerjük érzelmi működésünk biológiai al
 apjait, és törvényszerűségeit,\n&nbsp;&nbsp;&nbsp; ha példákon keres
 ztül rálátunk hiedelmeink, meggyőződéseink kialakulásának módjára
  és jelentőségére,\n&nbsp;&nbsp;&nbsp; ha tudjuk, hol is tartunk emberk
 ént,\n&nbsp;&nbsp;&nbsp; ha tisztában vagyunk a konfliktusok föltárás
 hoz szükséges ismeretekkel,\n\n\nAKKOR ESÉLYÜNK VAN:\n\n\n&nbsp;&nbsp;
 &nbsp; egyre kevesebb konfliktus megélésére,\n&nbsp;&nbsp;&nbsp; a beteg
 ségekből való végleges felépülésre,\n&nbsp;&nbsp;&nbsp; az életünk
 ben tervezett változások, változtatások sikeres megtételére,\n&nbsp;&
 nbsp;&nbsp; életünk tudatos irányítójává válásra.\n\n\nA TANFOLYAM
  TEMATIKÁJA: \n\n\n\n1. nap\n\n\nÉRZELMI MŰKÖDÉSÜNK BIOLÓGIAI ALAPJA
 I\n\n\n- Az agy és a hormonrendszer szerepe az érzelmi állapotok alakul
 sában.\n- Agyi struktúránkat kialakító hatások.\n- Hiedelmeink, megg
 yőződéseink, szükségletrendszerünk kialakulásának folyamata, érzel
 meinkre, viselkedésünkre gyakorolt hatása.\n- A valóság érzékelésé
 nek sorsdöntő jelentősége, és az ezt befolyásoló tényezők.\n- A n
 zőpont váltások jelentősége, átalakításuk módja, folyamata.\n- É
 rzelmi kompetencia, felelősségvállalás.\n- Miért előnyös ismerni mű
 ködésrendszerünket?\n\n\n2. nap\n\n\nA KONFLIKTUSOK MEGOLDÁSÁHOZ SZÜK
 SÉGES TUDNIVALÓK\n\n\n- Mi valójában a DHS?\n- Mi a konfliktus? Mi a st
 ressz?\n- Az Értelmes Biológiai Különprogram lefutások érzelmi folyam
 ata.\n- A konfliktus oldás-megoldás kérdésköre.\n- Konfliktus típusok
 .\n- A sínek.\n- A vakfolt\n- Mi dönti el, hogy milyen típusú konfliktu
 sokra vagyunk érzékenyek?\n- Az Értelmes Biológiai Különprogramok tes
 ti tüneteinek és a lelki folyamatainak az összefüggései\n- Az érzelmi
  és tudati többletállapotok (emberi minőség) jellemzői, elérésének
  folyamata.\n\n\n\n\n\n&nbsp;Szeretettel várunk tanfolyamunkon!\n
CONTACT:
 
 
 
 
 Ez az email cím védett a spam robotoktól, a megtekintéséhez engedélyezni kell a Javascriptet.
 
 
 , +36302079509

DTSTAMP:20260419T160424Z
DTSTART:20170513T080000Z
DTEND:20170513T150000Z
SEQUENCE:0
TRANSP:OPAQUE
END:VEVENT
END:VCALENDAR