BEGIN:VCALENDAR
VERSION:2.0
PRODID:-//jEvents 1.5 for Joomla//EN
BEGIN:VEVENT
CALSCALE:GREGORIAN
METHOD:PUBLISH

UID:e3c63bd7292b3e454f1d78bccaacf573
CATEGORIES:Egyéb kapcsolódó tanfolyam
SUMMARY:EgriBiologikaKör: Biologika KULCSOK tanfolyam 2/2 (Budapest)
LOCATION:Budapest, XIII.ker. Pozsonyi út 42. 2.em.1 , 11-es kapucsengő
DESCRIPTION;ENCODING=QUOTED-PRINTABLE:\n\n&nbsp;\nBIOLOGIKA "KULCSOK" TANFOLYAM&nbsp;\n\n\n2 napos tanfolyam&nbsp
 ; BUDAPESTEN\n\n\n\nidőtartam: 2 nap, 2017. május 13-14. \n \n\n\nFigyele
 m! Ez egy több napos tréning, további információ az első napnál, ide
  kattintva.\n
CONTACT:
 
 
 
 
 Ez az email cím védett a spam robotoktól, a megtekintéséhez engedélyezni kell a Javascriptet.
 
 
 , +36302079509

DTSTAMP:20260419T151622Z
DTSTART:20170514T080000Z
DTEND:20170514T150000Z
SEQUENCE:0
TRANSP:OPAQUE
END:VEVENT
END:VCALENDAR