BEGIN:VCALENDAR
VERSION:2.0
PRODID:-//jEvents 1.5 for Joomla//EN
BEGIN:VEVENT
CALSCALE:GREGORIAN
METHOD:PUBLISH

UID:1454ea8c3cf953aa46bb99ddae6fe5e8
CATEGORIES:Haladó szeminárium 
SUMMARY:EgriBiologikaKör: Biologika HALADÓ tanfolyam 1/2 (Eger)
LOCATION:Ébredés Holisztikus Központ, Eger, Szálloda u. 5. IV.em
DESCRIPTION;ENCODING=QUOTED-PRINTABLE:\n\nBIOLOGIKA (ÚJ MEDICINA) TANFOLYAM \n2 napos HALADÓ tanfolyam EGERBEN\
 n\n\n\n\n \n\n\ntémakör: hangulatzavarok és elmebajok&nbsp; \n\n\n\nelne
 vezés: Biologika (Új Medicina) haladó tanfolyam\n\n\ntréner: Pindrok Be
 áta&nbsp; \n\n\nhelyszín: Ébredés Holisztikus Központ, Eger Szálloda 
 u. 5. IV.em \n\n\n\nidőtartam: 2 nap, 2017. április 29-30.\n\n\nelőfelt
 tel: A 2 napos haladó tanfolyamon való részvétel feltétele a 4 napos 
 alaptanfolyam elvégzése, - vagy az Egri Biologika klub által, vagy a Bio
 logika Szabadegyetem által szervezett tanfolyamok egyikén - és az Énlel
 ő Alapítvány C. Kulcsok, 2 napos képzésén való részvétel \n\n\n\nA
  tananyag és prezentációs anyag a Biologika Szerv Atlasz. Ha szeretne be
 letekinteni itt megteheti: www.szervatlasz.hu\n\n\nrészvételi díj: 30 00
 0 Ft/fő/2nap\n\nKedvezmények:-&nbsp;Családi kedvezmény:&nbsp;2 közeli,
  egy háztartásban élő családtag, ugyanazon tanfolyamra történő jele
 ntkezése esetén 20% kedvezmény-&nbsp;Diák kedvezmény:&nbsp;12-18 év k
 özötti diákok részére ingyenes a tanfolyam&nbsp;-&nbsp;Koránkelő ked
 vezmény: 1 000 Ft/fő/nap kedvezmény (családi kedvezmény esetén 700Ft/
 nap kedvezmény). Ennek igénybevételéhez a teljes összeget a tanfolyam 
 előtt 3 héttel szükséges kifizetni. \n\n\n\njelentkezés:&nbsp;írásos
  előregisztráció kötelező ezen a Jelentkezési lapon.\n\n\n\n\nEz a k
 t nap bemutatja agyunk viselkedési és hangulati válaszait a megoldhatat
 lannak tűnő élethelyzetekre, ezen állapotok jellemzőit, kialakulásán
 ak okait és megoldásait.\n\n\nA tanfolyam célja, hogy \n- Az elmezavarok
  kialakulásának, funkciójának, értelmének, megjelenési formáinak me
 gismerésén keresztül, meglássuk ezen állapotok célszerűségét, és 
 automatizmusát a túlélés érdekében. \n- Az esetpéldákon és film be
 játszásokon keresztül felismerhető tudássá váljon a mindennapokban.\
 n- A tanfolyam alatt kirajzolódó új nézőpontokon, és megoldási módo
 kon keresztül megértéssel és elfogadással tudjunk fordulni az ilyen á
 llapotok felé, amelynek egyik előnye, hogy nagymértékben csökkenthetj
 k konfliktusaink számát.\n\n\n\n&nbsp;\n\n\nA TANFOLYAM TEMATIKÁJA: \n\
 n1. nap\n- Mi az elmezavar, közös jellemzők\n- Hogyan és miért jönnek
  létre a hangulat- és elmezavarok?\n- Mi az a konstelláció?\n- A témá
 val kapcsolatos fogalom meghatározások.\n- Kialakulásuk oka, agyi folyam
 ata.\n- Hatásuk a testben zajló elváltozásokra.\n- Agytörzsi konstell
 ciók kialakulásának okai, értelme, megnyilvánulási formái, megoldá
 sok.\n- &nbsp;Kisagyi konstellációk kialakulásának okai, értelme, megn
 yilvánulási formái, megoldások.\n2. nap\n- Skizofrénia\n- Velőállom
 nyi konstellációk kialakulásának okai, értelme, megnyilvánulási for
 mái, megoldások.\n- Megalomán, cezaromán, nárcisztikus viselkedés.\n-
  Kéregállományi konstellációk csoportjai, jellemzői.\n- Paranoiák, m
 ánia, depresszió, infantilizmus.\n- Mérleg szabályok.\n- Nemi/birtok z
 nás konstellációk, anorexia-, bulémia-, posztmortális-szuicid-, nymph
 o-, casanova-, autista-, agresszív konstelláció.\n- Nem konstellációs 
 agyi programok (fóbiák, homoszexualitás)\n\n\n&nbsp;\n\n\n&nbsp;Szeretet
 tel várunk tanfolyamunkon!\n
CONTACT:
 
 
 
 
 Ez az email cím védett a spam robotoktól, a megtekintéséhez engedélyezni kell a Javascriptet.
 
 
 , +36302079509

DTSTAMP:20260420T041819Z
DTSTART:20170429T080000Z
DTEND:20170429T150000Z
SEQUENCE:0
TRANSP:OPAQUE
END:VEVENT
END:VCALENDAR