BEGIN:VCALENDAR
VERSION:2.0
PRODID:-//jEvents 1.5 for Joomla//EN
BEGIN:VEVENT
CALSCALE:GREGORIAN
METHOD:PUBLISH

UID:01655248c3b06db3076336434b1f5f23
CATEGORIES:Haladó szeminárium 
SUMMARY:EgriBiologikaKör: Biologika HALADÓ tanfolyam 2/2 (Eger)
LOCATION:Ébredés Holisztikus Központ, Eger, Szálloda u. 5. IV.em
DESCRIPTION;ENCODING=QUOTED-PRINTABLE:<p><b><span style="font-size: 12pt;">BIOLOGIKA (ÚJ MEDICINA) TANFOLYAM <br
  />2 napos<span class="Apple-converted-space"> HALADÓ ta</span>nfolyam<spa
 n class="Apple-converted-space">&nbsp;<span class="Apple-converted-space"> 
 </span><b style="color: #000000; font-family: 'Helvetica', 'Arial', sans-se
 rif; font-size: 11px; font-style: normal; font-variant: normal; letter-spac
 ing: normal; line-height: normal; text-indent: 0px; text-transform: none; w
 hite-space: normal; word-spacing: 0px; background-color: #ffffff;"><span st
 yle="font-size: 12pt;"><span style="color: #003366;">Egerben</span></span><
 /b></span></span></b></p><p><span style="font-size: 10pt;"><br />elnevezés
 : <span style="color: #000000; font-family: 'Helvetica', 'Arial', sans-seri
 f; font-size: 13px; font-style: normal; font-variant: normal; font-weight: 
 400; letter-spacing: normal; line-height: normal; text-indent: 0px; text-tr
 ansform: none; white-space: normal; word-spacing: 0px; display: inline !imp
 ortant; float: none; background-color: #ffffff;">Biologika (Új Medicina)</
 span><span class="Apple-converted-space" style="color: #000000; font-family
 : 'Helvetica', 'Arial', sans-serif; font-size: 13px; font-style: normal; fo
 nt-variant: normal; font-weight: 400; letter-spacing: normal; line-height: 
 normal; text-indent: 0px; text-transform: none; white-space: normal; word-s
 pacing: 0px; background-color: #ffffff;"><span class="Apple-converted-space
 "> haladó </span>tanfolyam</span>&nbsp;</span></p><p><span style="font-siz
 e: 10pt;">időtartam: <span style="color: #000000;"><strong>4 nap</strong>,
  <span style="margin: 0px; padding: 0px; border: 0px none; outline: 0px non
 e; font-size: 13.3333px; color: inherit; background: transparent none repea
 t scroll 0% 0%;"><strong style="margin: 0px; padding: 0px; border: 0px none
 ; outline: 0px none; font-size: 13.3333px; color: inherit; background: tran
 sparent none repeat scroll 0% 0%;"></strong><b>2017. április 29-30.</b></s
 pan><b> <br /></b><span style="color: #000000; font-family: 'Helvetica', 'A
 rial', sans-serif; font-size: 11px; font-style: normal; font-variant: norma
 l; font-weight: 400; letter-spacing: normal; line-height: normal; text-inde
 nt: 0px; text-transform: none; white-space: normal; word-spacing: 0px; disp
 lay: inline !important; float: none; background-color: #ffffff;"></span> </
 span></span></p><p><span style="font-size: 10pt;">Figyelem! Ez egy több na
 pos tréning, további információ az első napnál, <a href="icalrepeat.d
 etail/2017/04/29/4199/" target="_blank">ide kattintva</a></span><span style
 ="font-size: 10pt;">.</span></p>
CONTACT:
 
 
 
 
 Ez az email cím védett a spam robotoktól, a megtekintéséhez engedélyezni kell a Javascriptet.
 
 
 , +36302079509

DTSTAMP:20260419T172314Z
DTSTART:20170430T080000Z
DTEND:20170430T150000Z
SEQUENCE:0
TRANSP:OPAQUE
END:VEVENT
END:VCALENDAR