BEGIN:VCALENDAR
VERSION:2.0
PRODID:-//jEvents 1.5 for Joomla//EN
BEGIN:VEVENT
CALSCALE:GREGORIAN
METHOD:PUBLISH

UID:bce39cd6fa203e91e4540ec51758a01b
CATEGORIES:Haladó szeminárium 
SUMMARY:EgriBiologikaKör: Biologika HALADÓ tanfolyam 1/2 (Budapest)
LOCATION:Budapest,XIII.ker. Pozsonyi út 42. 2.em.1. , 11-es kapucsengő
DESCRIPTION;ENCODING=QUOTED-PRINTABLE:\n\nBIOLOGIKA (ÚJ MEDICINA) TANFOLYAM \n2 napos HALADÓ tanfolyam BUDAPEST
 EN\n\n\n\n\n \n\n\ntémakör: hangulatzavarok és elmebajok&nbsp; \n\n\n\ne
 lnevezés: Biologika (Új Medicina) haladó tanfolyam\n\n\ntréner: Pindrok
  Beáta&nbsp; \n\n\nhelyszín: Budapest, XIII.ker. Pozsonyi út 42. 2.em.1.
  , 11-es kapucsengő\n\n\n\nidőtartam: 2 nap, 2017. május 20-21.\n\n\nel
 feltétel: A 2 napos haladó tanfolyamon való részvétel feltétele a 4 
 napos alaptanfolyam elvégzése, - vagy az Egri Biologika klub által, vagy
  a Biologika Szabadegyetem által szervezett tanfolyamok egyikén - és az 
 Énlelő Alapítvány C. Kulcsok, 2 napos képzésén való részvétel \n\
 n\n\nA tananyag és prezentációs anyag a Biologika Szerv Atlasz. Ha szere
 tne beletekinteni itt megteheti: www.szervatlasz.hu\n\n\nrészvételi díj:
  30 000 Ft/fő/2nap\n\nKedvezmények:-&nbsp;Családi kedvezmény:&nbsp;2 k
 zeli, egy háztartásban élő családtag, ugyanazon tanfolyamra történ
  jelentkezése esetén 20% kedvezmény-&nbsp;Diák kedvezmény:&nbsp;12-18
  év közötti diákok részére ingyenes a tanfolyam&nbsp;-&nbsp;Koránkel
 ő kedvezmény: 1 000 Ft/fő/nap kedvezmény (családi kedvezmény esetén 
 700Ft/nap kedvezmény). Ennek igénybevételéhez a teljes összeget a tanf
 olyam előtt 3 héttel szükséges kifizetni. \n\n\n\njelentkezés:&nbsp;í
 rásos előregisztráció kötelező ezen a Jelentkezési lapon.\n\n\n\n\nE
 z a két nap bemutatja agyunk viselkedési és hangulati válaszait a megol
 dhatatlannak tűnő élethelyzetekre, ezen állapotok jellemzőit, kialakul
 ásának okait és megoldásait.\n\n\nA tanfolyam célja, hogy \n- Az elmez
 avarok kialakulásának, funkciójának, értelmének, megjelenési formái
 nak megismerésén keresztül, meglássuk ezen állapotok célszerűségét
 , és automatizmusát a túlélés érdekében. \n- Az esetpéldákon és f
 ilm bejátszásokon keresztül felismerhető tudássá váljon a mindennapo
 kban.\n- A tanfolyam alatt kirajzolódó új nézőpontokon, és megoldási
  módokon keresztül megértéssel és elfogadással tudjunk fordulni az il
 yen állapotok felé, amelynek egyik előnye, hogy nagymértékben csökken
 thetjük konfliktusaink számát.\n\n\n\n&nbsp;\n\n\nA TANFOLYAM TEMATIKÁJ
 A: \n\n1. nap\n- Mi az elmezavar, közös jellemzők\n- Hogyan és miért j
 önnek létre a hangulat- és elmezavarok?\n- Mi az a konstelláció?\n- A 
 témával kapcsolatos fogalom meghatározások.\n- Kialakulásuk oka, agyi 
 folyamata.\n- Hatásuk a testben zajló elváltozásokra.\n- Agytörzsi kon
 stellációk kialakulásának okai, értelme, megnyilvánulási formái, me
 goldások.\n- &nbsp;Kisagyi konstellációk kialakulásának okai, értelme
 , megnyilvánulási formái, megoldások.\n2. nap\n- Skizofrénia\n- Velő
 llományi konstellációk kialakulásának okai, értelme, megnyilvánulá
 si formái, megoldások.\n- Megalomán, cezaromán, nárcisztikus viselked
 s.\n- Kéregállományi konstellációk csoportjai, jellemzői.\n- Paranoi
 ák, mánia, depresszió, infantilizmus.\n- Mérleg szabályok.\n- Nemi/bir
 tok zónás konstellációk, anorexia-, bulémia-, posztmortális-szuicid-,
  nympho-, casanova-, autista-, agresszív konstelláció.\n- Nem konstellá
 ciós agyi programok (fóbiák, homoszexualitás)\n\n\n&nbsp;\n\n\n&nbsp;Sz
 eretettel várunk tanfolyamunkon!\n
CONTACT:
 
 
 
 
 Ez az email cím védett a spam robotoktól, a megtekintéséhez engedélyezni kell a Javascriptet.
 
 
 , +36302079509

DTSTAMP:20260419T202023Z
DTSTART:20170520T080000Z
DTEND:20170520T150000Z
SEQUENCE:0
TRANSP:OPAQUE
END:VEVENT
END:VCALENDAR