BEGIN:VCALENDAR
VERSION:2.0
PRODID:-//jEvents 1.5 for Joomla//EN
BEGIN:VEVENT
CALSCALE:GREGORIAN
METHOD:PUBLISH

UID:8810d6236d3909fd6a0ba205bd26f81f
CATEGORIES:Haladó szeminárium 
SUMMARY:EgriBiologikaKör: Biologika HALADÓ tanfolyam 2/2 (Budapest)
LOCATION:Budapest, XIII.ker. Pozsonyi út 42. 2.em.1 , 11-es kapucsengő
DESCRIPTION;ENCODING=QUOTED-PRINTABLE:\n\nBIOLOGIKA (ÚJ MEDICINA) TANFOLYAM \n2 napos HALADÓ tanfolyam&nbsp; BU
 DAPESTEN\n\n\n\nelnevezés: Biologika (Új Medicina) haladó tanfolyam&nbsp
 ;\n\n\nidőtartam: 2 nap, 2017. május 20-21. \n \n\n\nFigyelem! Ez egy tö
 bb napos tréning, további információ az első napnál, ide kattintva.\n
CONTACT:
 
 
 
 
 Ez az email cím védett a spam robotoktól, a megtekintéséhez engedélyezni kell a Javascriptet.
 
 
 , +36302079509

DTSTAMP:20260419T120833Z
DTSTART:20170521T080000Z
DTEND:20170521T150000Z
SEQUENCE:0
TRANSP:OPAQUE
END:VEVENT
END:VCALENDAR