BEGIN:VCALENDAR
VERSION:2.0
PRODID:-//jEvents 1.5 for Joomla//EN
BEGIN:VEVENT
CALSCALE:GREGORIAN
METHOD:PUBLISH

UID:ab265fbd0ab97a69c8272d4a560284ca
CATEGORIES:Alap szeminÃ¡rium 
SUMMARY:ElekNoÃ©mi: Biologika IntenzÃ­v Tanfolyam 3/4 (Budapest)
LOCATION:Budapest, szervezÃ©s alatt
DESCRIPTION;ENCODING=QUOTED-PRINTABLE:\n\nBIOLOGIKA (ÃšJ MEDICINA) TRÃ‰NING\n\n\n3 nap ALAP + 1 nap HALADÃ“ tanfo
 lyam Budapesten\n\n\n\n\n\n\nelnevezÃ©s: Biologika (Ãºjmedicina) tanfolyam\
 n\n\nidÅ‘tartam: 4 nap, 2017. Ã¡prilis 1-2; 8-9.\n\n\n\nFigyelem! Ez egy tÃ
 ¶bb napos trÃ©ning, tovÃ¡bbi informÃ¡ciÃ³ az elsÅ‘ napnÃ¡l, ide kattintva.\
 n\n\n\n
CONTACT:
 
 
 
 
 Ez az email cÃ­m vÃ©dett a spam robotoktÃ³l, a megtekintÃ©sÃ©hez engedÃ©lyezni kell a Javascriptet.
 
 
 ; +36703603980

DTSTAMP:20260419T143843Z
DTSTART:20170408T080000Z
DTEND:20170408T150000Z
SEQUENCE:0
TRANSP:OPAQUE
END:VEVENT
END:VCALENDAR