BEGIN:VCALENDAR
VERSION:2.0
PRODID:-//jEvents 1.5 for Joomla//EN
BEGIN:VEVENT
CALSCALE:GREGORIAN
METHOD:PUBLISH

UID:8670b08c82b4e1ddb207cd0659c4ebb9
CATEGORIES:Ismeretterjesztő előadás
SUMMARY:ElekNoémi: Biologika Előadás (Budapest)
LOCATION:Budapest, szervezés alatt
DESCRIPTION;ENCODING=QUOTED-PRINTABLE:<p><span style="font-size: 10pt;"><span style="font-size: 12pt;"><strong><b
 r />BIOLOGIKA (ÚJ MEDICINA) ISMERETTERJESZTŐ ELŐADÁS <br /></strong>NŐ
 I SZERVEK ELVÁLTOZÁSAI, MEDDŐSÉG<strong><br /><br /></strong><span styl
 e="font-size: 10pt;">Előadó: <strong>Elek Noémi, <a href="partnereink/el
 ek-noemi-ujmedicina-konzulensek.html">http://biologika.hu/partnereink/elek-
 noemi-ujmedicina-konzulensek.html</a></strong></span><span style="font-size
 : 10pt;"><span></span><br /></span></span>Dátum: 2017. március 23. 17:30 
 - 20:30<br /> <span style="font-size: 10pt;">Helyszín: <strong>Budapest</s
 trong>, szervezés alatt<br />Részvételi díj: 3.000,-Ft / fő<br />Jelen
 tkezés: írásos előregisztráció kötelező a 
 <script language='JavaS
 cript' type='text/javascript'>
 <!--
 var prefix = 'm&#97;&#105;lt&#111;:';
 
 var suffix = '';
 var attribs = '';
 var path = 'hr' + 'ef' + '=';
 var a
 ddy4613 = 'n&#111;&#101;m&#105;' + '&#64;';
 addy4613 = addy4613 + 'b&#105;
 &#111;l&#111;g&#105;k&#97;' + '&#46;' + 'h&#117;';
 document.write( '<a ' +
  path + '\'' + prefix + addy4613 + suffix + '\'' + attribs + '>' );
 docume
 nt.write( addy4613 );
 document.write( '<\/a>' );
 //-->
 </script><script 
 language='JavaScript' type='text/javascript'>
 <!--
 document.write( '<span
  style=\'display: none;\'>' );
 //-->
 </script>Ez az email cím védett a 
 spam robotoktól, a megtekintéséhez engedélyezni kell a Javascriptet.
 <
 script language='JavaScript' type='text/javascript'>
 <!--
 document.write(
  '</' );
 document.write( 'span>' );
 //-->
 </script> e-mail címen</span>
 <span style="font-size: 10pt;"><strong style="font-size: 10pt;"><br /></str
 ong></span></span><br /><span style="font-size: 10pt;"><b></b></span></p><p
 ><span style="font-size: 10pt;">Az előadás célja a biológiai természet
 törvények megismerése, illetve ezek ismeretében egy új rálátást nye
 rni a </span><span style="font-size: 10pt;">testünkben zajló történetek
 re, elváltozásainkra, megérteni azok kialakulásának okát, melynek ism
 eretében </span><span style="font-size: 10pt;">lehetőségünk nyílik vá
 ltoztatni rajtuk.</span><br /><span style="font-size: 10pt;">Ez alkalommal 
 a meddőség és a női nemi szervek elváltozásainak okait, biológiai é
 rtelmét vizsgáljuk.</span></p><p><span style="font-size: 10pt;">Jelentkez
 éskor add meg:</span></p><p><span style="font-size: 10pt;">1.) az előadá
 s időpontját és helyszínét</span><br /><span style="font-size: 10pt;">
 2.) pontos nevedet</span><br /><span style="font-size: 10pt;">3.) mobil sz
 modat</span><br /><span style="font-size: 10pt;">4.) e-mail címedet</span
 ></p>
CONTACT:
 
 
 
 
 Ez az email cím védett a spam robotoktól, a megtekintéséhez engedélyezni kell a Javascriptet.
 
 
 ; +36703603980

DTSTAMP:20260420T075508Z
DTSTART:20170323T163000Z
DTEND:20170323T193000Z
SEQUENCE:0
TRANSP:OPAQUE
END:VEVENT
END:VCALENDAR