BEGIN:VCALENDAR
VERSION:2.0
PRODID:-//jEvents 1.5 for Joomla//EN
BEGIN:VEVENT
CALSCALE:GREGORIAN
METHOD:PUBLISH

UID:59af19c790904468f601b79bff13ff3c
CATEGORIES:Ismeretterjesztő előadás
SUMMARY:ElekNoémi: Biologika Előadás (Budapest)
LOCATION:Budapest, szervezés alatt
DESCRIPTION;ENCODING=QUOTED-PRINTABLE:\n\n\nBIOLOGIKA (ÚJ MEDICINA) ISMERETTERJESZTŐ ELŐADÁS \nELHÍZÁS, TÚ
 LSÚLY SZEREPE A BIOLÓGIÁBAN\n\nElőadó: Elek Noémi, http://biologika.h
 u/partnereink/elek-noemi-ujmedicina-konzulensek.html\nDátum: 2017. márciu
 s 30. 17:30 - 20:30\n Helyszín: Budapest, szervezés alatt\nRészvételi d
 íj: 3.000,-Ft / fő\nJelentkezés: írásos előregisztráció kötelező 
 a 
 
 
 
 
 Ez az email cím védett a spam robotoktól, a megtekintéséhe
 z engedélyezni kell a Javascriptet.
 
 
  e-mail címen\n\n\n\n\nAz előad
 ás célja a biológiai természettörvények megismerése, illetve ezek is
 meretében egy új rálátást nyerni a testünkben zajló történetekre, 
 elváltozásainkra, megérteni azok kialakulásának okát, melynek ismeret
 ében lehetőségünk nyílik változtatni rajtuk. Ez alkalommal az elhíz
 s és túlsúly okait, biológiai értelmét vizsgáljuk.\nJelentkezéskor
  add meg:\n\n1.) az előadás időpontját és helyszínét\n2.) pontos nev
 edet\n3.) mobil számodat\n4.) e-mail címedet\n
CONTACT:
 
 
 
 
 Ez az email cím védett a spam robotoktól, a megtekintéséhez engedélyezni kell a Javascriptet.
 
 
 ; +36703603980

DTSTAMP:20260424T134454Z
DTSTART:20170330T153000Z
DTEND:20170330T183000Z
SEQUENCE:0
TRANSP:OPAQUE
END:VEVENT
END:VCALENDAR