BEGIN:VCALENDAR
VERSION:2.0
PRODID:-//jEvents 1.5 for Joomla//EN
BEGIN:VEVENT
CALSCALE:GREGORIAN
METHOD:PUBLISH

UID:8d7655876942596fda4cabdddd2fcf35
CATEGORIES:Alap szeminÃ¡rium 
SUMMARY:ElekNoÃ©mi: Biologika IntenzÃ­v Tanfolyam 1/4 (Ã‰rd)
LOCATION:Ã‰rd, szervezÃ©s alatt
DESCRIPTION;ENCODING=QUOTED-PRINTABLE:\n\n&nbsp;BIOLOGIKA (ÃšJ MEDICINA) TRÃ‰NING\n3 nap ALAP + 1 nap HALADÃ“ tan
 folyam Ã‰rden\n\n\n&nbsp;\n\n\ntÃ©makÃ¶r: daganatok, sorvadÃ¡sok Ã©s mÃ¡s e
 lvÃ¡ltozÃ¡sok, biolÃ³giai Ã©rtelmÃ¼k, cÃ©ljuk, rendeltetÃ©sÃ¼k Ã©s lefolyÃ¡
 suk, hangulatzavarok Ã©s elmebajok\n\n\n\nelnevezÃ©s: Biologika (Ãšj Medici
 na) tanfolyam\n\n\nlÃ©tszÃ¡mkorlÃ¡t: nincs&nbsp;\n\n\ntrÃ©ner: Elek NoÃ©mi&
 nbsp;http://biologika.hu/partnereink/elek-noemi-ujmedicina-konzulensek.html
  \n\n\nhelyszÃ­n: Ã‰rd, szervezÃ©s alatt, fÃ¼gg a lÃ©tszÃ¡mtÃ³l - tovÃ¡bbi 
 informÃ¡ciÃ³ e-mailben\n\n\nidÅ‘tartam: 4 nap, 2017. mÃ¡jus 13-14; mÃ¡jus 2
 0-21.\n\n\n\nbontÃ¡si lehetÅ‘sÃ©g: nincs&nbsp;\n\n\n\n&nbsp;\n\n\nelÅ‘feltÃ
 ©tel:&nbsp;www.alapismeretek.biologika.hu&nbsp;online, ingyenes elÅ‘adÃ¡s m
 egtekintÃ©se legalÃ¡bb kÃ©tszer\n\n\n\nrÃ©szvÃ©teli dÃ­j: (4 nap): 60.000,-
 Ft / fÅ‘ / 4 nap\n\n\n\njelentkezÃ©si hatÃ¡ridÅ‘: 2017. mÃ¡jus 11.\n\n\n\nK
 edvezmÃ©nyes tanfolyamdÃ­j:\n2017. Ã¡prilis 22-ig tÃ¶rtÃ©nÅ‘ regisztrÃ¡ciÃ³
  esetÃ©n: 45.000,-Ft / fÅ‘ / 4 nap\n\n\n\njelentkezÃ©s:&nbsp;Ã­rÃ¡sos elÅ‘r
 egisztrÃ¡ciÃ³ kÃ¶telezÅ‘&nbsp;a
CONTACT:
 
 
 
 
 Ez az email cÃ­m vÃ©dett a spam robotoktÃ³l, a megtekintÃ©sÃ©hez engedÃ©lyezni kell a Javascriptet.
 
 
 ; +36703603980

DTSTAMP:20260419T145436Z
DTSTART:20170513T080000Z
DTEND:20170513T150000Z
SEQUENCE:0
TRANSP:OPAQUE
END:VEVENT
END:VCALENDAR