BEGIN:VCALENDAR
VERSION:2.0
PRODID:-//jEvents 1.5 for Joomla//EN
BEGIN:VEVENT
CALSCALE:GREGORIAN
METHOD:PUBLISH

UID:ec7d533f29e6f357e407f35e3032f55a
CATEGORIES:Alap szeminárium 
SUMMARY:ElekNoémi: Biologika Intenzív Tanfolyam 2/4 (Érd)
LOCATION:Érd, szervezés alatt
DESCRIPTION;ENCODING=QUOTED-PRINTABLE:\n\nBIOLOGIKA (ÚJ MEDICINA) TRÉNING\n3 nap ALAP + 1 nap HALADÓ tanfolyam
  Érden\n\n\n\n\n\n\nelnevezés: Biologika (Új Medicina) tanfolyam\n\n\nid
 őtartam: 4 nap, 2017. május 13-14; május 20-21.\n\n\n\nFigyelem! Ez egy 
 több napos tréning, további információ az első napnál, ide kattintva
 .\n\n\n\n
CONTACT:
 
 
 
 
 Ez az email cím védett a spam robotoktól, a megtekintéséhez engedélyezni kell a Javascriptet.
 
 
 ; +36703603980

DTSTAMP:20260419T120848Z
DTSTART:20170514T080000Z
DTEND:20170514T150000Z
SEQUENCE:0
TRANSP:OPAQUE
END:VEVENT
END:VCALENDAR