BEGIN:VCALENDAR
VERSION:2.0
PRODID:-//jEvents 1.5 for Joomla//EN
BEGIN:VEVENT
CALSCALE:GREGORIAN
METHOD:PUBLISH

UID:2937d9a4bc50aa7390e7011e5a37b260
CATEGORIES:Ismeretterjesztő előadás
SUMMARY:ElekNoémi: Biologika Előadás (Debrecen)
LOCATION:Debrecen, Miklós utca 18.
DESCRIPTION;ENCODING=QUOTED-PRINTABLE:<p><span style="font-size: 10pt;"><span style="font-size: 12pt;"><strong>BI
 OLOGIKA (ÚJ MEDICINA) ISMERETTERJESZTŐ ELŐADÁS <br /></strong><strong><
 br /><br style="font-size: 12pt;" /></strong><span style="font-size: 10pt;"
 >Előadó: <strong>Elek Noémi, <a href="partnereink/elek-noemi-ujmedicina-
 konzulensek.html">http://biologika.hu/partnereink/elek-noemi-ujmedicina-kon
 zulensek.html</a></strong></span><span style="font-size: 10pt;"><span></spa
 n><br /></span></span>Dátum: 2017. március 2. 18:00 - 20:00<br /> <span s
 tyle="font-size: 10pt;">Helyszín: <strong>Debrecen, Miklós utca 18.</stro
 ng><br />Részvételi díj: 1.000,-Ft / fő<br /></span><span style="font-s
 ize: 10pt;"><strong style="font-size: 10pt;"><br style="font-size: 10pt;" /
 ></strong></span></span></p><p><span style="font-size: 10pt;">Mi ez a biol
 giai rendszer? Mit kell tudni Hamer doktorról? Mit jelentenek a biológia
 i természettörvények? Hogyan működnek az ún. természetes elváltozá
 sok? <br />Mi van elváltozások </span><span style="font-size: 10pt;">hát
 terében? Hogyan tudjuk vezérelni az elváltozásokat? Mi az elváltozáso
 k értelme? <br />Szeretettel ajánlom figyelmedbe ezt az előadást, amenn
 yiben eleged van az ijesztgetésekből, a </span><span style="font-size: 10
 pt;">félelmekből, ha saját kezedbe vennéd tested (életed) irányítás
 át.<br />Az előadás célja a biológiai természettörvények megismeré
 se, illetve ezek ismeretében egy új </span><span style="font-size: 10pt;"
 >rálátást nyerni a testünkben zajló történetekre, elváltozásainkra
 , megérteni azok kialakulásának okát, melynek ismeretében lehetőség
 nk nyílik változtatni rajtuk.</span><br /><span style="font-size: 10pt;"
 >(A helyszínen a debreceni 4 napos Biologika tanfolyamra kedvezményes ár
 on regisztrálhatsz.)</span><br /><span style="font-size: 10pt;"><b></b></s
 pan></p>
CONTACT:
 
 
 
 
 Ez az email cím védett a spam robotoktól, a megtekintéséhez engedélyezni kell a Javascriptet.
 
 
 ; +36703603980

DTSTAMP:20260419T184401Z
DTSTART:20170302T170000Z
DTEND:20170302T190000Z
SEQUENCE:0
TRANSP:OPAQUE
END:VEVENT
END:VCALENDAR