BEGIN:VCALENDAR
VERSION:2.0
PRODID:-//jEvents 1.5 for Joomla//EN
BEGIN:VEVENT
CALSCALE:GREGORIAN
METHOD:PUBLISH

UID:d13a6c7faf78fb2f849c0235a16573b0
CATEGORIES:Alap szeminÃ¡rium 
SUMMARY:KovÃ¡csJ: Biologika IntenzÃ­v tanfolyam 1/4 (KecskemÃ©t)
LOCATION:KecskemÃ©t, szervezÃ©s alatt
DESCRIPTION;ENCODING=QUOTED-PRINTABLE:<p><b><span style="font-size: 12pt;">BIOLOGIKA (GNM ÃšJ MEDICINA) TRÃ‰NING<
 br />2 nap ALAP + 2 nap HALADÃ“ tanfolyam<span class="Apple-converted-space
 "> </span></span></b><b><span style="font-size: 12pt;"><span style="color: 
 #003366;">KecskemÃ©ten</span></span></b></p><p><b><span style="font-size: 1
 2pt;">&nbsp;</span></b></p><p><span style="font-size: 10pt;">tÃ©makÃ¶r: dag
 anatok, sorvadÃ¡sok Ã©s mÃ¡s elvÃ¡ltozÃ¡sok, biolÃ³giai Ã©rtelmÃ¼k, cÃ©ljuk
 , rendeltetÃ©sÃ¼k Ã©s lefolyÃ¡suk, hangulatzavarok Ã©s elmebajok<br /></spa
 n></p><p><span style="font-size: 10pt;">trÃ©ner:<span class="Apple-converte
 d-space"> </span></span><span style="font-size: 10pt;"><strong>KovÃ¡cs JÃ³z
 sef</strong>,&nbsp;<a href="https://ujmedicina.hu/partnereink/kovacs-jozsef
 .html" target="_blank">https://ujmedicina.hu/partnereink/kovacs-jozsef.html
 </a></span> <span></span></p><p><span style="font-size: 10pt;">helyszÃ­n:<s
 trong><span class="Apple-converted-space"> KecskemÃ©t, </span></strong></sp
 an><span style="font-size: 10pt;">szervezÃ©s alatt</span>, <span style="fon
 t-size: 10pt;">fÃ¼gg a lÃ©tszÃ¡mtÃ³l - tovÃ¡bbi informÃ¡ciÃ³ e-mailben</spa
 n></p><p><span style="font-size: 10pt;">idÅ‘tartam: <strong>4 nap</strong>,
  2017. mÃ¡rcius 11-12; mÃ¡rcius 18-19. <br /></span></p><p><span style="fon
 t-size: 10pt;">ebÃ©dszÃ¼net: <strong>12-13</strong></span><span style="font
 -size: 10pt;"> <strong>Ã³rÃ¡ig</strong></span>&nbsp;</p><p><span style="fon
 t-size: 10pt;">bontÃ¡si lehetÅ‘sÃ©g: nincs&nbsp;<br /></span></p><p><span s
 tyle="font-size: 10pt;">elÅ‘feltÃ©tel:<span class="Apple-converted-space">&
 nbsp;</span></span><span style="font-size: 10pt;"><a target="_blank" href="
 http://www.alapismeretek.biologika.hu">www.alapismeretek.biologika.hu</a></
 span><span style="font-size: 10pt;"><span class="Apple-converted-space">&nb
 sp;</span>online, ingyenes elÅ‘adÃ¡s megtekintÃ©se legalÃ¡bb kÃ©tszer<br />
 </span></p><p><span style="font-size: 10pt;">rÃ©szvÃ©teli dÃ­j: (4 nap): <s
 trong>40.000.-Ft/fÅ‘/4 nap <br /></strong></span></p><p><span style="font-s
 ize: 10pt;">jelentkezÃ©si hatÃ¡ridÅ‘:<strong> 2017. mÃ¡rcius 10.<br /></str
 ong></span></p><p><span style="font-size: 10pt;">KedvezmÃ©nyes tanfolyamdÃ­
 jak:</span></p><p><span style="font-size: 10pt;">- 10% kedvezmÃ©ny a jelent
 kezÃ©si hatÃ¡ridÅ‘ig regisztrÃ¡lÃ³knak: <strong>36.000Ft/fÅ‘/4 nap</strong>
 <br />- 20% csoportkedvezmÃ©ny 4 fÅ‘ egyÃ¼tt jelentkezÃ©se esetÃ©n tehÃ¡t <
 strong>32.000.-Ft/fÅ‘/4 nap</strong><br />- 25% kedvezmÃ©ny</span> <span st
 yle="font-size: 10pt;">2 kÃ¶zeli, egy hÃ¡ztartÃ¡sban Ã©lÅ‘ csalÃ¡dtag ugyan
 azon tanfolyamra tÃ¶rtÃ©nÅ‘ jelentkezÃ©se esetÃ©n tehÃ¡t <strong>30.000.-Ft
 /fÅ‘/4 nap</strong></span><br /><span style="font-size: 10pt;">- 35% 60 Ã©v
  feletti korkedvezmÃ©ny: <strong>26.000.-Ft/fÅ‘/4 nap</strong><br />- 50% k
 edvezmÃ©ny: az ismÃ©tlÅ‘knek: <strong>20.000 Ft/4 nap</strong><br />- 100% 
 12-18 kÃ¶zÃ¶tti fiatalok rÃ©szÃ©re ingyenes a tanfolyam.<br /><br />Az egye
 s kedvezmÃ©nyek nem vonhatÃ³k Ã¶ssze.<br />A felsorolt dÃ­jak: nettÃ³ Ã¡rak
 .</span></p><p><span style="font-size: 10pt;">jelentkezÃ©s:<span class="App
 le-converted-space">&nbsp;</span></span><b><span style="color: #800000;"><s
 pan style="font-size: 10pt;">Ã­rÃ¡sos elÅ‘regisztrÃ¡ciÃ³ kÃ¶telezÅ‘</span><
 /span></b><span style="font-size: 10pt;"><span class="Apple-converted-space
 ">&nbsp;</span>az 
 <script language='JavaScript' type='text/javascript'>
 
 <!--
 var prefix = 'm&#97;&#105;lt&#111;:';
 var suffix = '';
 var attribs 
 = '';
 var path = 'hr' + 'ef' + '=';
 var addy12437 = 'j&#111;zs&#101;f' + 
 '&#64;';
 addy12437 = addy12437 + 'b&#105;&#111;l&#111;g&#105;k&#97;' + '&#
 46;' + 'h&#117;';
 document.write( '<a ' + path + '\'' + prefix + addy12437
  + suffix + '\'' + attribs + '>' );
 document.write( addy12437 );
 document
 .write( '<\/a>' );
 //-->
 </script><script language='JavaScript' type='tex
 t/javascript'>
 <!--
 document.write( '<span style=\'display: none;\'>' );

  //-->
 </script>Ez az email cÃ­m vÃ©dett a spam robotoktÃ³l, a megtekintÃ©
 sÃ©hez engedÃ©lyezni kell a Javascriptet.
 <script language='JavaScript' ty
 pe='text/javascript'>
 <!--
 document.write( '</' );
 document.write( 'span
 >' );
 //-->
 </script> e-mail cÃ­men</span></p><p><span style="font-size: 
 10pt;">A tanfolyam cÃ©lja, hogy alapokat adjon a biolÃ³giai termÃ©szettÃ¶rv
 Ã©nyek megismerÃ©sÃ©hez, a testben lezajlÃ³ folyamatok megÃ©rtÃ©sÃ©hez. </s
 pan><br /><span style="font-size: 10pt;">A biolÃ³gia termÃ©szettÃ¶rvÃ©nyei 
 hitrendszerÃ¼nktÅ‘l fÃ¼ggetlenÃ¼l mÅ±kÃ¶dnek, egyÃ©nileg ellenÅ‘rizhetÅ‘ek 
 akÃ¡r visszamenÅ‘leg is. </span><br /><span style="font-size: 10pt;">A tanf
 olyami ismeretek elsajÃ¡tÃ­tÃ¡sa Ãºj rÃ¡lÃ¡tÃ¡st biztosÃ­t a betegsÃ©gek he
 lyes Ã©rtelmezÃ©sÃ©re. SegÃ­tsÃ©get nyÃºjt megalapozott dÃ¶ntÃ©seket hozni 
 az egyÃ©n szÃ¡mÃ¡ra sajÃ¡t egÃ©szsÃ©ge Ã©rdekÃ©ben. A Biologika ismeretÃ©ne
 k egyik legnagyobb elÅ‘nye, hogy kÃ©pessÃ© vÃ¡lunk a komolyabb elvÃ¡ltozÃ¡s
 ok kialakulÃ¡sÃ¡t megakadÃ¡lyozni, a mÃ¡r folyamatban lÃ©vÅ‘ket a legÃ©ssze
 rÅ±bben kezelni. </span><br /><span style="font-size: 10pt;">A tanfolyam ne
 m gyÃ³gymÃ³d, nem gyÃ³gyÃ­t, nem kÃ©szÃ­t fel gyÃ³gyÃ­tÃ³ tevÃ©kenysÃ©g vÃ©
 gzÃ©sÃ©re. Az ismeretanyag az Ã¶nmagÃ¡Ã©rt felelÅ‘ssÃ©get vÃ¡llalÃ³ hÃ©tkÃ¶
 znapi embernek szÃ³l. Ennek hiÃ¡nya akÃ¡r az egÃ©szsÃ©g megÅ‘rzÃ©sÃ©nek, he
 lyreÃ¡llÃ­tÃ¡sÃ¡nak gÃ¡tjÃ¡vÃ¡ is vÃ¡lhat. MegÃ©rteni a bennÃ¼nk zajlÃ³ Ã©r
 zelmi Ã©s testi folyamatokat egy Ãºj, minÅ‘sÃ©gibb, Ã¡ltalunk irÃ¡nyÃ­tott 
 Ã©letvitel alapjÃ¡t jelentheti. Megszabadulni hiedelmeinktÅ‘l, fÃ©lelmeinkt
 Å‘l, betegsÃ©gtudatunktÃ³l egy magunkkal cipelt teher letÃ©telÃ©t jelenti. 
 </span><br /><span style="font-size: 10pt;">A tanfolyam nem csak testi szin
 ten tÃ¡rja fel az elvÃ¡ltozÃ¡sokat, hanem megmutatja lelki szinten is a kiv
 Ã¡ltÃ³ okokat, Ã©rzelmi kilengÃ©seket.</span><br /><span style="font-size: 
 10pt;">A trÃ©ning Barnai Roberto Ã¡ltal kÃ©szÃ­tett Szerv Atlasz tudÃ¡sanya
 gÃ¡n alapul.</span><br /><span style="font-size: 10pt;">&nbsp;</span></p><p
 ><span style="font-size: 10pt;">A tanfolyam tematikÃ¡ja:</span><br /><stron
 g><span style="font-size: 10pt;">1. nap</span></strong><br /><span style="f
 ont-size: 10pt;">Az Ã¶t biolÃ³giai termÃ©szettÃ¶rvÃ©ny - Dr. Ryke Geerd Ham
 mer munkÃ¡ssÃ¡ga</span><br /><span style="font-size: 10pt;">Barnai Roberto:
  Biologika Szerv Atlasz felÃ©pÃ­tÃ©se Ã©s hasznÃ¡lata</span><br /><span sty
 le="font-size: 10pt;">Az agytÃ¶rzs vezÃ©relte mirigyszÃ¶vetes szervek elvÃ¡
 ltozÃ¡sai</span><br /><span style="font-size: 10pt;">Az kÃ¶zÃ©pagy vezÃ©rel
 te simaizomszÃ¶vetek elvÃ¡ltozÃ¡sai (miÃ³mÃ¡k) </span><br /><strong><span s
 tyle="font-size: 10pt;">2. nap</span></strong><br /><span style="font-size:
  10pt;">A kisagy vezÃ©relte szervek elvÃ¡ltozÃ¡sai (hÃ¡rtyaszÃ¶vetek, bÅ‘ri
 rha, tejmirigyek)</span><br /><span style="font-size: 10pt;">A velÅ‘Ã¡llomÃ
 ¡ny vezÃ©relte szervek elvÃ¡ltozÃ¡sai Ã©s a valÃ³di cisztÃ¡k</span><br /><s
 pan style="font-size: 10pt;">KÃ¶tÅ‘szÃ¶vetek, vÃ¡zrendszer</span><br /><spa
 n style="font-size: 10pt;">A szÃ­v elvÃ¡ltozÃ¡sai</span><br /><span style="
 font-size: 10pt;">VÃ©r- Ã©s nyirokrendszer (leukÃ©mia)</span><br /><span st
 yle="font-size: 10pt;">Magas vÃ©rnyomÃ¡s (vesekÃ©reg elvÃ¡ltozÃ¡sa)</span><
 br /><span style="font-size: 10pt;">Here Ã©s petefÃ©szekciszta</span><br />
 <strong><span style="font-size: 10pt;">3. nap</span></strong><br /><span st
 yle="font-size: 10pt;">A kÃ©regÃ¡llomÃ¡ny vezÃ©relte szervek elvÃ¡ltozÃ¡sai
 </span><br /><span style="font-size: 10pt;">FÃ©rfias Ã©s nÅ‘ies hormonÃ¡lla
 pot</span><br /><span style="font-size: 10pt;">FunkciÃ³-kimaradÃ¡sok, bÃ©nu
 lÃ¡sok, cukorszint vÃ¡ltozÃ¡sok</span><br /><strong><span style="font-size:
  10pt;">4. nap</span></strong><br /><span style="font-size: 10pt;">MentÃ¡li
 s kÃ¼lÃ¶nprogramok</span><br /><span style="font-size: 10pt;">Hangulatzavar
 ok Ã©s elmebajok - a leggyakoribb tÃ¼netek hÃ¡tterÃ©vel.</span><br /><span 
 style="font-size: 10pt;">(MegzavarodottsÃ¡g, kÃ©nyszeres sÃ©rtegetÃ©s, Ã©rt
 Ã©kÃ­tÃ©leti zavarok, </span><br /><span style="font-size: 10pt;">mÃ¡nia, d
 epressziÃ³, skizofrÃ©nia, fÃ³biÃ¡k Ã©s paranoiÃ¡k.)</span><br /><span style
 ="font-size: 10pt;">&nbsp;</span></p><p><span style="font-size: 10pt;">Tana
 nyag: Biologika Szerv Atlasz</span><br /><span style="font-size: 10pt;">Rob
 erto elÅ‘adÃ¡sainak prezentÃ¡ciÃ³s anyaga az Ãºj medicina kÃ©zikÃ¶nyvÃ©vÃ© 
 nÅ‘tte ki magÃ¡t. A Szerv Atlasz megvÃ¡sÃ¡rolhatÃ³ a webshopban vagy a trÃ©
 ningen. A Szerv Atlasz jelenleg az egyetlen Ãºj medicinÃ¡s kÃ©zikÃ¶nyv a vi
 lÃ¡gon.<br /><br /></span></p><p><span style="font-size: 10pt;">JelentkezÃ©
 skor add meg:</span><br /><span style="font-size: 10pt;">1.) a trÃ©ning nev
 Ã©t, helyszÃ­nÃ©t Ã©s idÅ‘pontjÃ¡t</span><br /><span style="font-size: 10pt
 ;">2.) pontos nevedet</span><br /><span style="font-size: 10pt;">3.) mobil 
 szÃ¡modat</span><br /><span style="font-size: 10pt;">4.) e-mail cÃ­medet</s
 pan><br /><span style="font-size: 10pt;">5.) kedvezmÃ©ny alapjÃ¡t (ha jogos
 ult vagy)</span><br /><span style="font-size: 10pt;"><br style="font-size: 
 10pt;" /></span></p>
CONTACT:
 
 
 
 
 Ez az email cÃ­m vÃ©dett a spam robotoktÃ³l, a megtekintÃ©sÃ©hez engedÃ©lyezni kell a Javascriptet.
 
 
 ; +36303164121

DTSTAMP:20260419T185913Z
DTSTART:20170311T090000Z
DTEND:20170311T160000Z
SEQUENCE:0
TRANSP:OPAQUE
END:VEVENT
END:VCALENDAR