BEGIN:VCALENDAR
VERSION:2.0
PRODID:-//jEvents 1.5 for Joomla//EN
BEGIN:VEVENT
CALSCALE:GREGORIAN
METHOD:PUBLISH

UID:8edf58ddffda23fea62ce61d1767ecc0
CATEGORIES:Alap szeminárium 
SUMMARY:KovácsJ: Biologika Intenzív tanfolyam 2/4 (Kecskemét)
LOCATION:Kecskemét, szervezés alatt
DESCRIPTION;ENCODING=QUOTED-PRINTABLE:\n\nBIOLOGIKA (ÚJ MEDICINA) TRÉNING\n\n\n2 nap ALAP + 2 nap HALADÓ tanfo
 lyam Kecskeméten\n\n\n\n\n\n\nelnevezés: Biologika (újmedicina) tanfolya
 m\n\n\nidőtartam: 4 nap, 2 nap ALAP tanfolyam 2017. február 18-19, vagy m
 árcius 11-12; 2 nap HALADÓ: 2017. március 18-19.\n\n\n\nFigyelem! Ez egy
  több napos tréning, további információ az első napnál, ide kattintv
 a.\n\n\n\n
CONTACT:
 
 
 
 
 Ez az email cím védett a spam robotoktól, a megtekintéséhez engedélyezni kell a Javascriptet.
 
 
 ; +36303164121

DTSTAMP:20260420T055304Z
DTSTART:20170312T090000Z
DTEND:20170312T160000Z
SEQUENCE:0
TRANSP:OPAQUE
END:VEVENT
END:VCALENDAR