BEGIN:VCALENDAR
VERSION:2.0
PRODID:-//jEvents 1.5 for Joomla//EN
BEGIN:VEVENT
CALSCALE:GREGORIAN
METHOD:PUBLISH

UID:fe63354335653aa71f398e92740f4611
CATEGORIES:EgyÃ©b kapcsolÃ³dÃ³ tanfolyam
SUMMARY:HerczegA: KÃ¶zponti idegrendszer elvÃ¡ltozÃ¡sai (Budapest)
LOCATION:Budapest, V.ker. HercegprÃ­mÃ¡s u. 13.
DESCRIPTION;ENCODING=QUOTED-PRINTABLE:\n\nSzorongÃ¡s, depressziÃ³, pÃ¡nik, alvÃ¡szavar Ã©s a kÃ¶zponti idegrendsz
 ert Ã©rintÅ‘ egyÃ©b elvÃ¡ltozÃ¡sok biologikus megoldÃ¡sai\n Egynapos tanfol
 yam&nbsp;Budapesten\n\n\n&nbsp;\n\n\ntÃ©makÃ¶r: Biologika (Ãºjmedicina) int
 enzÃ­v trÃ©ning, elvÃ¡ltozÃ¡stan, a megbetegedÃ©sek mechanizmusa\n\n\ntrÃ©n
 er:&nbsp;dr. Herczeg Andrea, http://biologika.hu/partnereink/dr-herczeg-and
 rea.html\n\n\nhelyszÃ­n: Budapest, V. ker. HercegprÃ­mÃ¡s u. 13.\n\n\nidÅ‘t
 artam: 1 nap, 2017. Ã¡prilis 8. \n\n\n\nebÃ©dszÃ¼net: 13-14 Ã³rÃ¡ig&nbsp;\n
 \n\nkÃ©rdÃ©sek, vÃ¡laszok: 17-18 Ã³rÃ¡ig\n\n\nelÅ‘feltÃ©tel:&nbsp;5 biolÃ³g
 iai termÃ©szettÃ¶rvÃ©ny&nbsp;online, ingyenes elÅ‘adÃ¡s megtekintÃ©se\n\n\n
 rÃ©szvÃ©teli dÃ­j (1 nap): 20.000,- Ft / fÅ‘\n\n\nismÃ©tlÅ‘ vagy korkedvezm
 Ã©ny (18 alatt Ã©s 60 felett) Ã©rvÃ©nyesÃ­tÃ©se esetÃ©n a rÃ©szvÃ©teli dÃ­j
 &nbsp;15.000,- Ft / fÅ‘ &nbsp;\n\n\njelentkezÃ©s:&nbsp;Ã­rÃ¡sos elÅ‘regiszt
 rÃ¡ciÃ³ kÃ¶telezÅ‘&nbsp;a&nbsp;leÃ­rÃ¡s aljÃ¡nÃ¡l megadott e-mail cÃ­men\n\
 n\njelentkezÃ©si hatÃ¡ridÅ‘: 2017. Ã¡prilis 3. \n\n\n\n&nbsp;\n\n\nLeÃ­rÃ¡s
 :\n\n\nSzervezetÃ¼nk vÃ¡ltozÃ¡sai, biolÃ³giai kÃ¼lÃ¶nprogramjai (megbeteged
 Ã©sek) minden esetben a tÃºlÃ©lÃ©st szolgÃ¡ljÃ¡k. Ezeket a programokat az a
 gyunk tÃ©vedhetetlenÃ¼l vÃ¡lasztja ki a rendelkezÃ©sÃ©re Ã¡llÃ³ elÅ‘zetes m
 egtapasztalÃ¡sok, Ã©letesemÃ©nyek, Ã©rzelmi reakciÃ³ink alapjÃ¡n. A tanfoly
 amon a kÃ¶zponti idegrendszer elvÃ¡ltozÃ¡sait tÃ¡rjuk fel Ã©s Ã©rtelmezzÃ¼k
  a biolÃ³giai termÃ©szettÃ¶rvÃ©nyek alapjÃ¡n. EzeknÃ©l az elvÃ¡ltozÃ¡soknÃ¡
 l nagyon gyakran gyÃ³gyszereket kell alkalmazni, amelyek mÃ³dosÃ­tjÃ¡k a sz
 ervezet Ã¶nÃ¡llÃ³ folyamatait. Az egyes elvÃ¡ltozÃ¡soknÃ¡l szÃ³ lesz a gyÃ³
 gyszerek hatÃ¡sairÃ³l, mellÃ©khatÃ¡sairÃ³l, Ã©s azokrÃ³l az alternatÃ­v leh
 etÅ‘sÃ©gekrÅ‘l melyeket a gyÃ³gyszeres kezelÃ©s megelÅ‘zÃ©sÃ©re vagy kiegÃ©
 szÃ­tÃ©sÃ©re hasznÃ¡lhatunk.\n \nTematika: \na biolÃ³giai termÃ©szettÃ¶rvÃ©
 nyek Ã¡tismÃ©tlÃ©se, \na kÃ¶zponti idegrendszer anatÃ³miai Ã©lettani jellem
 zÅ‘i\nDemencia, Alzheimer, Parkinson, epilepszia kialakulÃ¡sÃ¡t eredmÃ©nyez
 Å‘ Ã©rzelmek, megÃ©lÃ©sek, Ã¡llapotok\nAz agyszÃ¶vetet Ã©rintÅ‘ kÃ¡rosodÃ¡s
 ok elvÃ¡ltozÃ¡sok kialakulÃ¡sÃ¡hoz vezetÅ‘ okok, Ã©s a helyreÃ¡llÃ­tÃ¡st se
 gÃ­tÅ‘ lehetÅ‘sÃ©gek.\nHangulatvÃ¡ltozÃ¡sok (depressziÃ³, pÃ¡nik, szorongÃ¡
 s, mÃ¡nia), elmezavarokbiologikus Ã©rtelmezÃ©se, Ã©s az elvÃ¡ltozÃ¡sokat ki
 vÃ¡ltÃ³ Ã©rzelmi megÃ©lÃ©sek\n\n\n\n\n\nJelentkezÃ©skor add meg:\n1.) a trÃ
 ©ning nevÃ©t, helyszÃ­nÃ©t Ã©s idÅ‘pontjÃ¡t(!)\n2.) pontos nevedet\n3.) mob
 il szÃ¡modat\n4.) e-mail cÃ­medet\n5.) kedvezmÃ©ny alapjÃ¡t (ha jogosult va
 gy) \n\nA nyirokrendszer Ã©s a vÃ©rkÃ©pzÅ‘ rendszer betegsÃ©geinek
CONTACT:
 
 
 
 
 Ez az email cÃ­m vÃ©dett a spam robotoktÃ³l, a megtekintÃ©sÃ©hez engedÃ©lyezni kell a Javascriptet.
 
 
 

DTSTAMP:20260419T144810Z
DTSTART:20170408T080000Z
DTEND:20170408T160000Z
SEQUENCE:0
TRANSP:OPAQUE
END:VEVENT
END:VCALENDAR