BEGIN:VCALENDAR
VERSION:2.0
PRODID:-//jEvents 1.5 for Joomla//EN
BEGIN:VEVENT
CALSCALE:GREGORIAN
METHOD:PUBLISH

UID:8f850d4a15f62164dd702c31d817248b
CATEGORIES:EgyÃ©b kapcsolÃ³dÃ³ tanfolyam
SUMMARY:HerczegA: KeringÃ©si rendszer elvÃ¡ltozÃ¡sai (Budapest)
LOCATION:Budapest, V.ker. HercegprÃ­mÃ¡s u. 13.
DESCRIPTION;ENCODING=QUOTED-PRINTABLE:\n\nA keringÃ©si rendszer elvÃ¡ltozÃ¡sainak biologikus megoldÃ¡sai\n Egynap
 os tanfolyam&nbsp;Budapesten\n\n\n&nbsp;\n\n\ntÃ©makÃ¶r: Biologika (Ãºjmedi
 cina) intenzÃ­v trÃ©ning, elvÃ¡ltozÃ¡stan, a megbetegedÃ©sek mechanizmusa\n
 \n\ntrÃ©ner:&nbsp;dr. Herczeg Andrea, http://biologika.hu/partnereink/dr-he
 rczeg-andrea.html\n\n\nhelyszÃ­n: Budapest, V. ker. HercegprÃ­mÃ¡s u. 13.\n
 \n\nidÅ‘tartam: 1 nap, 2017. Ã¡prilis 9. \n\n\n\nebÃ©dszÃ¼net: 13-14 Ã³rÃ¡i
 g&nbsp;\n\n\nkÃ©rdÃ©sek, vÃ¡laszok: 17-18 Ã³rÃ¡ig\n\n\nelÅ‘feltÃ©tel:&nbsp;
 5 biolÃ³giai termÃ©szettÃ¶rvÃ©ny&nbsp;online, ingyenes elÅ‘adÃ¡s megtekintÃ
 ©se\n\n\nrÃ©szvÃ©teli dÃ­j (1 nap): 20.000,- Ft / fÅ‘\n\n\nismÃ©tlÅ‘ vagy k
 orkedvezmÃ©ny (18 alatt Ã©s 60 felett) Ã©rvÃ©nyesÃ­tÃ©se esetÃ©n a rÃ©szvÃ©
 teli dÃ­j&nbsp;15.000,- Ft / fÅ‘ &nbsp;\n\n\njelentkezÃ©s:&nbsp;Ã­rÃ¡sos el
 Å‘regisztrÃ¡ciÃ³ kÃ¶telezÅ‘&nbsp;a&nbsp;leÃ­rÃ¡s aljÃ¡nÃ¡l megadott e-mail 
 cÃ­men\n\n\njelentkezÃ©si hatÃ¡ridÅ‘: 2017. Ã¡prilis 9. \n\n\n\n\nLeÃ­rÃ¡s,
  tematika:\n\n\nSzervezetÃ¼nk vÃ¡ltozÃ¡sai, biolÃ³giai kÃ¼lÃ¶nprogramjai (m
 egbetegedÃ©sek) minden esetben a tÃºlÃ©lÃ©st szolgÃ¡ljÃ¡k. Ezeket a program
 okat az agyunk tÃ©vedhetetlenÃ¼l vÃ¡lasztja ki a rendelkezÃ©sÃ©re Ã¡llÃ³ el
 Å‘zetes megtapasztalÃ¡sok, Ã©letesemÃ©nyek, Ã©rzelmi reakciÃ³ink alapjÃ¡n. 
 A tanfolyamon a keringÃ©si rendszer elvÃ¡ltozÃ¡sait tÃ¡rjuk fel Ã©s Ã©rtelm
 ezzÃ¼k a biolÃ³giai termÃ©szettÃ¶rvÃ©nyek alapjÃ¡n. EzeknÃ©l az elvÃ¡ltozÃ¡
 soknÃ¡l nagyon gyakran gyÃ³gyszereket kell alkalmazni, amelyek mÃ³dosÃ­tjÃ¡
 k a szervezet Ã¶nÃ¡llÃ³ folyamatait. Az egyes elvÃ¡ltozÃ¡soknÃ¡l szÃ³ lesz 
 a gyÃ³gyszerek hatÃ¡sairÃ³l, mellÃ©khatÃ¡sairÃ³l, Ã©s azokrÃ³l az alternatÃ
 ­v lehetÅ‘sÃ©gekrÅ‘l melyeket a gyÃ³gyszeres kezelÃ©s megelÅ‘zÃ©sÃ©re vagy 
 kiegÃ©szÃ­tÃ©sÃ©re hasznÃ¡lhatunk. \n\nTematika: \na biolÃ³giai termÃ©szett
 Ã¶rvÃ©nyek Ã¡tismÃ©tlÃ©se, \nmagas vÃ©rnyomÃ¡s kialakulÃ¡sÃ¡t eredmÃ©nyezÅ‘
  Ã¡llapotok, Ã©rzelmek, megÃ©lÃ©sek\nszÃ­vbetegsÃ©gek, elvÃ¡ltozÃ¡sok a szÃ
 ­vizomban, koszorÃº erekben\nvÃ©ralvadÃ¡s folyamatÃ¡nak megvÃ¡ltozÃ¡sa, tro
 mbÃ³zis\nagyi tÃ¶rtÃ©nÃ©sek, keringÃ©si betegsÃ©gek a kÃ¶zponti idegrendsze
 rben\n\n\nAz elvÃ¡ltozÃ¡sok helyreÃ¡llÃ­tÃ¡sÃ¡t segÃ­tÅ‘ lehetÅ‘sÃ©gek.\n\n
 \n&nbsp;\n\n\nJelentkezÃ©skor add meg:\n1.) a trÃ©ning nevÃ©t, helyszÃ­nÃ©t
  Ã©s idÅ‘pontjÃ¡t(!)\n2.) pontos nevedet\n3.) mobil szÃ¡modat\n4.) e-mail c
 Ã­medet\n5.) kedvezmÃ©ny alapjÃ¡t (ha jogosult vagy) \n\n
CONTACT:
 
 
 
 
 Ez az email cÃ­m vÃ©dett a spam robotoktÃ³l, a megtekintÃ©sÃ©hez engedÃ©lyezni kell a Javascriptet.
 
 
 

DTSTAMP:20260420T055411Z
DTSTART:20170409T080000Z
DTEND:20170409T160000Z
SEQUENCE:0
TRANSP:OPAQUE
END:VEVENT
END:VCALENDAR