BEGIN:VCALENDAR
VERSION:2.0
PRODID:-//jEvents 1.5 for Joomla//EN
BEGIN:VEVENT
CALSCALE:GREGORIAN
METHOD:PUBLISH

UID:b4ca56ea88c184cbc9b5091959583139
CATEGORIES:Egyéb kapcsolódó tanfolyam
SUMMARY:HerczegA: Női szervek elváltozásai (Budapest)
LOCATION:Budapest, V.ker. Hercegprímás u. 13.
DESCRIPTION;ENCODING=QUOTED-PRINTABLE:<p><span style="font-size: 12pt;"><b><br />A nőket érintő betegségek; m
 éh, petefészek, mell elváltozásainak biologikus megoldásai<br /> Egyna
 pos tanfolyam&nbsp;<span style="color: #003366;">Budapesten</span></b></spa
 n></p><p><span style="font-size: 10pt;"><b>&nbsp;</b></span></p><p><span st
 yle="font-size: 10pt;">témakör: Biologika (újmedicina) intenzív trénin
 g, elváltozástan, a megbetegedések mechanizmusa</span></p><p><span style
 ="font-size: 10pt;">tréner:&nbsp;<b>dr. Herczeg Andrea</b>, <a href="partn
 ereink/dr-herczeg-andrea.html" target="_blank"><span style="color: blue;"><
 /span></a><span style="text-decoration: underline;"><span style="font-size:
  8pt;"><a href="partnereink/dr-herczeg-andrea.html">http://biologika.hu/par
 tnereink/dr-herczeg-andrea.html</a></span></span></span></p><p><span style=
 "font-size: 10pt;">helyszín:<b> Budapest</b>, V. ker. Hercegprímás u. 13
 .</span></p><p><span style="font-size: 10pt;">időtartam: 1 nap, <b>2017. m
 ájus 14.</b> <br /></span></p><p><span style="font-size: 10pt;">ebédszün
 et: <b>13</b>-<b>14 óráig</b>&nbsp;</span></p><p><span style="font-size: 
 10pt;">kérdések, válaszok: <b>17</b>-<b>18 óráig</b></span></p><p><spa
 n style="font-size: 10pt;">előfeltétel:&nbsp;<a href="http://eloadas.biol
 ogika.hu" target="_blank"><b><span style="color: #1155cc;">5 biológiai ter
 mészettörvény</span></b></a>&nbsp;online, ingyenes előadás megtekinté
 se</span></p><p><span style="font-size: 10pt;">részvételi díj (1 nap): <
 b>20.000,- Ft / fő</b></span></p><p><span style="font-size: 10pt;">ismétl
 ő vagy korkedvezmény (18 alatt és 60 felett) érvényesítése esetén a
  részvételi díj&nbsp;<b>15.000,- Ft / fő</b> &nbsp;</span></p><p><span 
 style="font-size: 10pt;">jelentkezés:&nbsp;<b><span style="color: maroon;"
 >írásos előregisztráció kötelező</span></b>&nbsp;a&nbsp;leírás alj
 ánál megadott e-mail címen</span></p><p><span style="font-size: 10pt;">j
 elentkezési határidő: <span style="font-size: 10pt;"><b><span style="col
 or: maroon;">2017. május 8. </span></b></span><br /></span></p><p>&nbsp;</
 p><p><span style="font-size: 10pt;"><b>Leírás, tematika:</b></span></p><p
 ><span style="font-size: 10pt;">Szervezetünk változásai, biológiai kül
 önprogramjai (megbetegedések) minden esetben a túlélést szolgálják. 
 <br />Ezeket a programokat az agyunk tévedhetetlenül választja ki a rend
 elkezésére álló előzetes megtapasztalások, életesemények, érzelmi 
 reakcióink alapján. <br />A tanfolyamon a női test elváltozásait tárj
 uk fel és értelmezzük a biológiai természettörvények alapján. Ezekn
 él az elváltozásoknál nagyon gyakran gyógyszereket kell alkalmazni, am
 elyek módosítják a szervezet önálló folyamatait. Az egyes elváltozá
 soknál szó lesz a gyógyszerek hatásairól, mellékhatásairól, és azo
 król az alternatív lehetőségekről melyeket a gyógyszeres kezelés meg
 előzésére vagy kiegészítésére használhatunk. </span><br /><span sty
 le="font-size: 10pt;"><br /><br /><strong>Tematika:<br /></strong> </span><
 br /><span style="font-size: 10pt;">a biológiai természettörvények áti
 smétlése, </span><br /><span style="font-size: 10pt;">a mell elváltozás
 ait, szövetgyaropodását eredményező állapotok, érzelmek, megélések
 </span><br /><span style="font-size: 10pt;">méh nyálkahártya, méhizomza
 t elváltozásai, endometriozis</span><br /><span style="font-size: 10pt;">
 méhnyak elváltozásai, HPV</span><br /><span style="font-size: 10pt;">pet
 efészek ciszta, egyéb petefészek elváltozások</span><br /><span style=
 "font-size: 10pt;">Hüvely nyálkahártya, mirigyek elváltozásai</span><b
 r /><span style="font-size: 10pt;">Meddőség okai, biologikus magyarázata
  és megoldásai</span><br /><span style="font-size: 10pt;">Az elváltozás
 ok helyreállítását segítő lehetőségek.</span></p><p><span style="fo
 nt-size: 10pt;"><br />Jelentkezéskor add meg:</span><br /><span style="fon
 t-size: 10pt;">1.) a tréning nevét, helyszínét és időpontját(!)</spa
 n><br /><span style="font-size: 10pt;">2.) pontos nevedet</span><br /><span
  style="font-size: 10pt;">3.) mobil számodat</span><br /><span style="font
 -size: 10pt;">4.) e-mail címedet</span><br /><span style="font-size: 10pt;
 ">5.) kedvezmény alapját (ha jogosult vagy) <br /></span></p>
CONTACT:
 
 
 
 
 Ez az email cím védett a spam robotoktól, a megtekintéséhez engedélyezni kell a Javascriptet.
 
 
 

DTSTAMP:20260419T151443Z
DTSTART:20170514T080000Z
DTEND:20170514T160000Z
SEQUENCE:0
TRANSP:OPAQUE
END:VEVENT
END:VCALENDAR