BEGIN:VCALENDAR
VERSION:2.0
PRODID:-//jEvents 1.5 for Joomla//EN
BEGIN:VEVENT
CALSCALE:GREGORIAN
METHOD:PUBLISH

UID:b4ca56ea88c184cbc9b5091959583139
CATEGORIES:EgyÃ©b kapcsolÃ³dÃ³ tanfolyam
SUMMARY:HerczegA: NÅ‘i szervek elvÃ¡ltozÃ¡sai (Budapest)
LOCATION:Budapest, V.ker. HercegprÃ­mÃ¡s u. 13.
DESCRIPTION;ENCODING=QUOTED-PRINTABLE:\n\n\nA nÅ‘ket Ã©rintÅ‘ betegsÃ©gek; mÃ©h, petefÃ©szek, mell elvÃ¡ltozÃ¡sai
 nak biologikus megoldÃ¡sai\n Egynapos tanfolyam&nbsp;Budapesten\n\n\n&nbsp;
 \n\n\ntÃ©makÃ¶r: Biologika (Ãºjmedicina) intenzÃ­v trÃ©ning, elvÃ¡ltozÃ¡sta
 n, a megbetegedÃ©sek mechanizmusa\n\n\ntrÃ©ner:&nbsp;dr. Herczeg Andrea, ht
 tp://biologika.hu/partnereink/dr-herczeg-andrea.html\n\n\nhelyszÃ­n: Budape
 st, V. ker. HercegprÃ­mÃ¡s u. 13.\n\n\nidÅ‘tartam: 1 nap, 2017. mÃ¡jus 14. 
 \n\n\n\nebÃ©dszÃ¼net: 13-14 Ã³rÃ¡ig&nbsp;\n\n\nkÃ©rdÃ©sek, vÃ¡laszok: 17-18
  Ã³rÃ¡ig\n\n\nelÅ‘feltÃ©tel:&nbsp;5 biolÃ³giai termÃ©szettÃ¶rvÃ©ny&nbsp;onl
 ine, ingyenes elÅ‘adÃ¡s megtekintÃ©se\n\n\nrÃ©szvÃ©teli dÃ­j (1 nap): 20.00
 0,- Ft / fÅ‘\n\n\nismÃ©tlÅ‘ vagy korkedvezmÃ©ny (18 alatt Ã©s 60 felett) Ã©
 rvÃ©nyesÃ­tÃ©se esetÃ©n a rÃ©szvÃ©teli dÃ­j&nbsp;15.000,- Ft / fÅ‘ &nbsp;\n
 \n\njelentkezÃ©s:&nbsp;Ã­rÃ¡sos elÅ‘regisztrÃ¡ciÃ³ kÃ¶telezÅ‘&nbsp;a&nbsp;l
 eÃ­rÃ¡s aljÃ¡nÃ¡l megadott e-mail cÃ­men\n\n\njelentkezÃ©si hatÃ¡ridÅ‘: 201
 7. mÃ¡jus 8. \n\n\n\n&nbsp;\n\n\nLeÃ­rÃ¡s, tematika:\n\n\nSzervezetÃ¼nk vÃ¡
 ltozÃ¡sai, biolÃ³giai kÃ¼lÃ¶nprogramjai (megbetegedÃ©sek) minden esetben a 
 tÃºlÃ©lÃ©st szolgÃ¡ljÃ¡k. \nEzeket a programokat az agyunk tÃ©vedhetetlenÃ¼
 l vÃ¡lasztja ki a rendelkezÃ©sÃ©re Ã¡llÃ³ elÅ‘zetes megtapasztalÃ¡sok, Ã©le
 tesemÃ©nyek, Ã©rzelmi reakciÃ³ink alapjÃ¡n. \nA tanfolyamon a nÅ‘i test elv
 Ã¡ltozÃ¡sait tÃ¡rjuk fel Ã©s Ã©rtelmezzÃ¼k a biolÃ³giai termÃ©szettÃ¶rvÃ©ny
 ek alapjÃ¡n. EzeknÃ©l az elvÃ¡ltozÃ¡soknÃ¡l nagyon gyakran gyÃ³gyszereket k
 ell alkalmazni, amelyek mÃ³dosÃ­tjÃ¡k a szervezet Ã¶nÃ¡llÃ³ folyamatait. Az
  egyes elvÃ¡ltozÃ¡soknÃ¡l szÃ³ lesz a gyÃ³gyszerek hatÃ¡sairÃ³l, mellÃ©khat
 Ã¡sairÃ³l, Ã©s azokrÃ³l az alternatÃ­v lehetÅ‘sÃ©gekrÅ‘l melyeket a gyÃ³gys
 zeres kezelÃ©s megelÅ‘zÃ©sÃ©re vagy kiegÃ©szÃ­tÃ©sÃ©re hasznÃ¡lhatunk. \n\n
 \nTematika:\n \na biolÃ³giai termÃ©szettÃ¶rvÃ©nyek Ã¡tismÃ©tlÃ©se, \na mell
  elvÃ¡ltozÃ¡sait, szÃ¶vetgyaropodÃ¡sÃ¡t eredmÃ©nyezÅ‘ Ã¡llapotok, Ã©rzelmek
 , megÃ©lÃ©sek\nmÃ©h nyÃ¡lkahÃ¡rtya, mÃ©hizomzat elvÃ¡ltozÃ¡sai, endometrioz
 is\nmÃ©hnyak elvÃ¡ltozÃ¡sai, HPV\npetefÃ©szek ciszta, egyÃ©b petefÃ©szek el
 vÃ¡ltozÃ¡sok\nHÃ¼vely nyÃ¡lkahÃ¡rtya, mirigyek elvÃ¡ltozÃ¡sai\nMeddÅ‘sÃ©g o
 kai, biologikus magyarÃ¡zata Ã©s megoldÃ¡sai\nAz elvÃ¡ltozÃ¡sok helyreÃ¡llÃ
 ­tÃ¡sÃ¡t segÃ­tÅ‘ lehetÅ‘sÃ©gek.\n\n\n\nJelentkezÃ©skor add meg:\n1.) a trÃ
 ©ning nevÃ©t, helyszÃ­nÃ©t Ã©s idÅ‘pontjÃ¡t(!)\n2.) pontos nevedet\n3.) mob
 il szÃ¡modat\n4.) e-mail cÃ­medet\n5.) kedvezmÃ©ny alapjÃ¡t (ha jogosult va
 gy) \n\n
CONTACT:
 
 
 
 
 Ez az email cÃ­m vÃ©dett a spam robotoktÃ³l, a megtekintÃ©sÃ©hez engedÃ©lyezni kell a Javascriptet.
 
 
 

DTSTAMP:20260419T120915Z
DTSTART:20170514T080000Z
DTEND:20170514T160000Z
SEQUENCE:0
TRANSP:OPAQUE
END:VEVENT
END:VCALENDAR