BEGIN:VCALENDAR
VERSION:2.0
PRODID:-//jEvents 1.5 for Joomla//EN
BEGIN:VEVENT
CALSCALE:GREGORIAN
METHOD:PUBLISH

UID:36012c1ba769bed663c0592188983d57
CATEGORIES:EgyÃ©b kapcsolÃ³dÃ³ tanfolyam
SUMMARY:HerczegA: A lÃ©gutak elvÃ¡ltozÃ¡sai (Budapest)
LOCATION:Budapest, V.ker. HercegprÃ­mÃ¡s u. 13.
DESCRIPTION;ENCODING=QUOTED-PRINTABLE:\n\nA lÃ©gutak elvÃ¡ltozÃ¡sainak biologikus Ã©rtelmezÃ©se, dohÃ¡nyzÃ¡s\n Eg
 ynapos tanfolyam&nbsp;Budapesten\n\n\n&nbsp;\n\n\ntÃ©makÃ¶r: Biologika (Ãºj
 medicina) intenzÃ­v trÃ©ning, elvÃ¡ltozÃ¡stan, a megbetegedÃ©sek mechanizmu
 sa\n\n\ntrÃ©ner:&nbsp;dr. Herczeg Andrea, http://biologika.hu/partnereink/d
 r-herczeg-andrea.html\n\n\nhelyszÃ­n: Budapest, V.ker. HercegprÃ­mÃ¡s u. 13
 .\n\n\n\nidÅ‘tartam: 1 nap, 2017. mÃ¡jus 21.&nbsp; \n\n\n\nebÃ©dszÃ¼net: 13
 -14 Ã³rÃ¡ig&nbsp;\n\n\nkÃ©rdÃ©sek, vÃ¡laszok: 17-18 Ã³rÃ¡ig\n\n\nelÅ‘feltÃ©
 tel:&nbsp;5 biolÃ³giai termÃ©szettÃ¶rvÃ©ny&nbsp;online, ingyenes elÅ‘adÃ¡s 
 megtekintÃ©se\n\nrÃ©szvÃ©teli dÃ­j (1 nap): 20.000,- Ft / fÅ‘ \n\n\n\nismÃ©
 tlÅ‘ vagy korkedvezmÃ©ny (18 alatt Ã©s 60 felett) Ã©rvÃ©nyesÃ­tÃ©se esetÃ©n
  a rÃ©szvÃ©teli dÃ­j: 15.000,- Ft / fÅ‘\n\n\n\njelentkezÃ©s:&nbsp;Ã­rÃ¡sos 
 elÅ‘regisztrÃ¡ciÃ³ kÃ¶telezÅ‘&nbsp;a&nbsp;leÃ­rÃ¡s aljÃ¡nÃ¡l megadott e-mai
 l cÃ­men\n\n\njelentkezÃ©si hatÃ¡ridÅ‘: 2017. mÃ¡jus 15.\n\n\n\n&nbsp;\n\n\
 nLeÃ­rÃ¡s, tematika:\n\n\nSzervezetÃ¼nk vÃ¡ltozÃ¡sai, biolÃ³giai kÃ¼lÃ¶npro
 gramjai (megbetegedÃ©sek) minden esetben a tÃºlÃ©lÃ©st szolgÃ¡ljÃ¡k. Ezeket
  a programokat az agyunk tÃ©vedhetetlenÃ¼l vÃ¡lasztja ki a rendelkezÃ©sÃ©re
  Ã¡llÃ³ elÅ‘zetes megtapasztalÃ¡sok, Ã©letesemÃ©nyek, Ã©rzelmi reakciÃ³ink 
 alapjÃ¡n. Ezen a kÃ©pzÃ©sena orrnyÃ¡lkahÃ¡rtyÃ¡tÃ³l kezdÅ‘dÅ‘en a lÃ©gutak 
 akut Ã©s krÃ³nikus megbetegedÃ©seit, elvÃ¡ltozÃ¡sait Ã©rtelmezzÃ¼k a biolÃ³
 giai termÃ©szettÃ¶rvÃ©nyek alapjÃ¡n. EzeknÃ©l az elvÃ¡ltozÃ¡soknÃ¡l nagyon 
 gyakran gyÃ³gyszereket kell alkalmazni, amelyek mÃ³dosÃ­tjÃ¡k a szervezet Ã
 ¶nÃ¡llÃ³ folyamatait. Az egyes elvÃ¡ltozÃ¡soknÃ¡l szÃ³ lesz a gyÃ³gyszerek 
 hatÃ¡sairÃ³l, mellÃ©khatÃ¡sairÃ³l, Ã©s azokrÃ³l az alternatÃ­v lehetÅ‘sÃ©ge
 krÅ‘l melyeket a gyÃ³gyszeres kezelÃ©s megelÅ‘zÃ©sÃ©re vagy kiegÃ©szÃ­tÃ©sÃ
 ©re hasznÃ¡lhatunk. \n\nTematika: \n\na biolÃ³giai termÃ©szettÃ¶rvÃ©nyek Ã¡
 tismÃ©tlÃ©se, \na lÃ©gzÅ‘ rendszer anatÃ³miÃ¡ja, Ã©lettani funkciÃ³i\naz or
 r Ã©s az orrmellÃ©kÃ¼regek megbetegedÃ©sei\ngÃ©ge Ã©s lÃ©gcsÅ‘ kÃ¼lÃ¶nprogr
 amok, asztma, krupp\nlÃ©gutak allergiÃ¡s folyamatai\na tÃ¼dÅ‘ megbetegedÃ©s
 ei\ndaganatos elvÃ¡ltozÃ¡sok a lÃ©gutakban Ã©s a tÃ¼dÅ‘ben\naz elvÃ¡ltozÃ¡s
 ok helyreÃ¡llÃ­tÃ¡sÃ¡t segÃ­tÅ‘ lehetÅ‘sÃ©gek\nVan-e Ã¶sszefÃ¼ggÃ©s a dohÃ¡
 nyzÃ¡s Ã©s a lÃ©gutak elvÃ¡ltozÃ¡sai kÃ¶zÃ¶tt?\n\nJelentkezÃ©skor add meg:\
 n1.) a trÃ©ning nevÃ©t, helyszÃ­nÃ©t Ã©s idÅ‘pontjÃ¡t(!)\n2.) pontos nevede
 t\n3.) mobil szÃ¡modat\n4.) e-mail cÃ­medet\n5.) kedvezmÃ©ny alapjÃ¡t (ha j
 ogosult vagy) \n\nA nyirokrendszer Ã©s a vÃ©rkÃ©pzÅ‘ rendszer betegsÃ©geine
 k
CONTACT:
 
 
 
 
 Ez az email cÃ­m vÃ©dett a spam robotoktÃ³l, a megtekintÃ©sÃ©hez engedÃ©lyezni kell a Javascriptet.
 
 
 

DTSTAMP:20260419T134035Z
DTSTART:20170521T080000Z
DTEND:20170521T160000Z
SEQUENCE:0
TRANSP:OPAQUE
END:VEVENT
END:VCALENDAR