BEGIN:VCALENDAR
VERSION:2.0
PRODID:-//jEvents 1.5 for Joomla//EN
BEGIN:VEVENT
CALSCALE:GREGORIAN
METHOD:PUBLISH

UID:156bf32d686069ba4426d937b4df1e92
CATEGORIES:Alap szeminÃ¡rium 
SUMMARY:OrlikI: Biologika IntenzÃ­v Tanfolyam 1/4 (Szeged)
LOCATION:Szeged, szervezÃ©s alatt
DESCRIPTION;ENCODING=QUOTED-PRINTABLE:<p><b><span style="font-size: 12pt;">BIOLOGIKA (ÃšJ MEDICINA) TRÃ‰NING<br /
 >2 nap ALAP + 2 nap HALADÃ“ tanfolyam<span class="Apple-converted-space"> <
 /span></span></b><b><span style="font-size: 12pt;"><span style="color: #003
 366;">Szegeden</span></span></b></p><p><b><span style="font-size: 12pt;">&n
 bsp;</span></b></p><p><span style="font-size: 10pt;">tÃ©makÃ¶r: daganatok, 
 sorvadÃ¡sok Ã©s mÃ¡s elvÃ¡ltozÃ¡sok, biolÃ³giai Ã©rtelmÃ¼k, cÃ©ljuk, rendel
 tetÃ©sÃ¼k Ã©s lefolyÃ¡suk, hangulatzavarok Ã©s elmebajok<br /></span></p><p
 ><span style="font-size: 10pt;">trÃ©ner:<span class="Apple-converted-space"
 >&nbsp;</span></span><span style="font-size: 10pt;"><strong>Orlik Ilona</st
 rong>,</span> <span style="text-decoration: underline;"><a href="partnerein
 k/orlik-ilona-biologika.html">http://biologika.hu/partnereink/orlik-ilona-b
 iologika.html</a></span></p><p><span style="font-size: 10pt;">helyszÃ­n:<st
 rong><span class="Apple-converted-space"> Szeged</span></strong></span><spa
 n style="font-size: 10pt;">, szervezÃ©s alatt</span>, <span style="font-siz
 e: 10pt;">fÃ¼gg a lÃ©tszÃ¡mtÃ³l - tovÃ¡bbi informÃ¡ciÃ³ e-mailben</span></p
 ><p><span style="font-size: 10pt;">idÅ‘tartam: <strong>4 nap</strong>, 2017
 . Ã¡prilis 8-9; Ã¡prilis 23, Ã¡prilis 30. <br /></span></p><p><span style="
 font-size: 10pt;">ebÃ©dszÃ¼net: <strong>12-13</strong></span><span style="f
 ont-size: 10pt;"> <strong>Ã³rÃ¡ig</strong></span>&nbsp;</p><p><span style="
 font-size: 10pt;">bontÃ¡si lehetÅ‘sÃ©g: nincs&nbsp;<br /></span></p><p><spa
 n style="font-size: 10pt;">elÅ‘feltÃ©tel:<span class="Apple-converted-space
 ">&nbsp;</span></span><span style="font-size: 10pt;"><a target="_blank" hre
 f="http://www.alapismeretek.biologika.hu">www.alapismeretek.biologika.hu</a
 ></span><span style="font-size: 10pt;"><span class="Apple-converted-space">
 &nbsp;</span>online, ingyenes elÅ‘adÃ¡s megtekintÃ©se legalÃ¡bb kÃ©tszer<br
  /></span></p><p><span style="font-size: 10pt;">rÃ©szvÃ©teli dÃ­j: (4 nap):
  <strong>40.000.-Ft/fÅ‘/4 nap <br /></strong></span></p><p><span style="fon
 t-size: 10pt;">jelentkezÃ©si hatÃ¡ridÅ‘:<strong> 2017. Ã¡prilis 3.<br /></s
 trong></span></p><p><span style="font-size: 10pt;">KedvezmÃ©nyes tanfolyamd
 Ã­jak:</span></p><p><span style="font-size: 10pt;">- 10% kedvezmÃ©ny a jele
 ntkezÃ©si hatÃ¡ridÅ‘ig regisztrÃ¡lÃ³knak: <strong>36.000Ft/fÅ‘/4 nap</stron
 g><br />- 20% csoportkedvezmÃ©ny 4 fÅ‘ egyÃ¼tt jelentkezÃ©se esetÃ©n tehÃ¡t
  <strong>32.000.-Ft/fÅ‘/4 nap</strong><br />- 25% kedvezmÃ©ny</span> <span 
 style="font-size: 10pt;">2 kÃ¶zeli, egy hÃ¡ztartÃ¡sban Ã©lÅ‘ csalÃ¡dtag ugy
 anazon tanfolyamra tÃ¶rtÃ©nÅ‘ jelentkezÃ©se esetÃ©n tehÃ¡t <strong>30.000.-
 Ft/fÅ‘/4 nap</strong></span><br /><span style="font-size: 10pt;">- 35% 60 Ã
 ©v feletti korkedvezmÃ©ny: <strong>26.000.-Ft/fÅ‘/4 nap</strong><br />- 50%
  kedvezmÃ©ny: az ismÃ©tlÅ‘knek: <strong>20.000 Ft/4 nap</strong><br />- 100
 % 12-18 kÃ¶zÃ¶tti fiatalok rÃ©szÃ©re ingyenes a tanfolyam.<br /><br />Az eg
 yes kedvezmÃ©nyek nem vonhatÃ³k Ã¶ssze.<br />A felsorolt dÃ­jak: nettÃ³ Ã¡r
 ak.</span></p><p><span style="font-size: 10pt;">jelentkezÃ©s:<span class="A
 pple-converted-space">&nbsp;</span></span><b><span style="color: #800000;">
 <span style="font-size: 10pt;">Ã­rÃ¡sos elÅ‘regisztrÃ¡ciÃ³ kÃ¶telezÅ‘</span
 ></span></b><span style="font-size: 10pt;"><span class="Apple-converted-spa
 ce">&nbsp;</span>az 
 <script language='JavaScript' type='text/javascript'>
 
 <!--
 var prefix = 'm&#97;&#105;lt&#111;:';
 var suffix = '';
 var attrib
 s = '';
 var path = 'hr' + 'ef' + '=';
 var addy41493 = '&#105;c&#97;' + '&
 #64;';
 addy41493 = addy41493 + 'b&#105;&#111;l&#111;g&#105;k&#97;' + '&#46
 ;' + 'h&#117;';
 document.write( '<a ' + path + '\'' + prefix + addy41493 +
  suffix + '\'' + attribs + '>' );
 document.write( addy41493 );
 document.w
 rite( '<\/a>' );
 //-->
 </script><script language='JavaScript' type='text/
 javascript'>
 <!--
 document.write( '<span style=\'display: none;\'>' );
 /
 /-->
 </script>Ez az email cÃ­m vÃ©dett a spam robotoktÃ³l, a megtekintÃ©sÃ
 ©hez engedÃ©lyezni kell a Javascriptet.
 <script language='JavaScript' type
 ='text/javascript'>
 <!--
 document.write( '</' );
 document.write( 'span>'
  );
 //-->
 </script> e-mail cÃ­men</span></p><p><span style="font-size: 10
 pt;">A tanfolyam cÃ©lja, hogy alapokat adjon a biolÃ³giai termÃ©szettÃ¶rvÃ©
 nyek megismerÃ©sÃ©hez, a testben lezajlÃ³ folyamatok megÃ©rtÃ©sÃ©hez. </spa
 n><br /><span style="font-size: 10pt;">A biolÃ³gia termÃ©szettÃ¶rvÃ©nyei hi
 trendszerÃ¼nktÅ‘l fÃ¼ggetlenÃ¼l mÅ±kÃ¶dnek, egyÃ©nileg ellenÅ‘rizhetÅ‘ek ak
 Ã¡r visszamenÅ‘leg is. </span><br /><span style="font-size: 10pt;">A tanfol
 yami ismeretek elsajÃ¡tÃ­tÃ¡sa Ãºj rÃ¡lÃ¡tÃ¡st biztosÃ­t a betegsÃ©gek hely
 es Ã©rtelmezÃ©sÃ©re. SegÃ­tsÃ©get nyÃºjt megalapozott dÃ¶ntÃ©seket hozni az
  egyÃ©n szÃ¡mÃ¡ra sajÃ¡t egÃ©szsÃ©ge Ã©rdekÃ©ben. A Biologika ismeretÃ©nek 
 egyik legnagyobb elÅ‘nye, hogy kÃ©pessÃ© vÃ¡lunk a komolyabb elvÃ¡ltozÃ¡sok
  kialakulÃ¡sÃ¡t megakadÃ¡lyozni, a mÃ¡r folyamatban lÃ©vÅ‘ket a legÃ©sszerÅ
 ±bben kezelni. </span><br /><span style="font-size: 10pt;">A tanfolyam nem 
 gyÃ³gymÃ³d, nem gyÃ³gyÃ­t, nem kÃ©szÃ­t fel gyÃ³gyÃ­tÃ³ tevÃ©kenysÃ©g vÃ©gz
 Ã©sÃ©re. Az ismeretanyag az Ã¶nmagÃ¡Ã©rt felelÅ‘ssÃ©get vÃ¡llalÃ³ hÃ©tkÃ¶zn
 api embernek szÃ³l. Ennek hiÃ¡nya akÃ¡r az egÃ©szsÃ©g megÅ‘rzÃ©sÃ©nek, hely
 reÃ¡llÃ­tÃ¡sÃ¡nak gÃ¡tjÃ¡vÃ¡ is vÃ¡lhat. MegÃ©rteni a bennÃ¼nk zajlÃ³ Ã©rze
 lmi Ã©s testi folyamatokat egy Ãºj, minÅ‘sÃ©gibb, Ã¡ltalunk irÃ¡nyÃ­tott Ã©
 letvitel alapjÃ¡t jelentheti. Megszabadulni hiedelmeinktÅ‘l, fÃ©lelmeinktÅ‘
 l, betegsÃ©gtudatunktÃ³l egy magunkkal cipelt teher letÃ©telÃ©t jelenti. </
 span><br /><span style="font-size: 10pt;">A tanfolyam nem csak testi szinte
 n tÃ¡rja fel az elvÃ¡ltozÃ¡sokat, hanem megmutatja lelki szinten is a kivÃ¡
 ltÃ³ okokat, Ã©rzelmi kilengÃ©seket.</span><br /><span style="font-size: 10
 pt;">A trÃ©ning Barnai Roberto Ã¡ltal kÃ©szÃ­tett Szerv Atlasz tudÃ¡sanyagÃ
 ¡n alapul.</span><br /><span style="font-size: 10pt;">&nbsp;</span></p><p><
 span style="font-size: 10pt;">A tanfolyam tematikÃ¡ja:</span><br /><strong>
 <span style="font-size: 10pt;">1. nap</span></strong><br /><span style="fon
 t-size: 10pt;">Az Ã¶t biolÃ³giai termÃ©szettÃ¶rvÃ©ny - Dr. Ryke Geerd Hamme
 r munkÃ¡ssÃ¡ga</span><br /><span style="font-size: 10pt;">Barnai Roberto: B
 iologika Szerv Atlasz felÃ©pÃ­tÃ©se Ã©s hasznÃ¡lata</span><br /><span style
 ="font-size: 10pt;">Az agytÃ¶rzs vezÃ©relte mirigyszÃ¶vetes szervek elvÃ¡lt
 ozÃ¡sai</span><br /><span style="font-size: 10pt;">Az kÃ¶zÃ©pagy vezÃ©relte
  simaizomszÃ¶vetek elvÃ¡ltozÃ¡sai (miÃ³mÃ¡k) </span><br /><strong><span sty
 le="font-size: 10pt;">2. nap</span></strong><br /><span style="font-size: 1
 0pt;">A kisagy vezÃ©relte szervek elvÃ¡ltozÃ¡sai (hÃ¡rtyaszÃ¶vetek, bÅ‘rirh
 a, tejmirigyek)</span><br /><span style="font-size: 10pt;">A velÅ‘Ã¡llomÃ¡n
 y vezÃ©relte szervek elvÃ¡ltozÃ¡sai Ã©s a valÃ³di cisztÃ¡k</span><br /><spa
 n style="font-size: 10pt;">KÃ¶tÅ‘szÃ¶vetek, vÃ¡zrendszer</span><br /><span 
 style="font-size: 10pt;">A szÃ­v elvÃ¡ltozÃ¡sai</span><br /><span style="fo
 nt-size: 10pt;">VÃ©r- Ã©s nyirokrendszer (leukÃ©mia)</span><br /><span styl
 e="font-size: 10pt;">Magas vÃ©rnyomÃ¡s (vesekÃ©reg elvÃ¡ltozÃ¡sa)</span><br
  /><span style="font-size: 10pt;">Here Ã©s petefÃ©szekciszta</span><br /><s
 trong><span style="font-size: 10pt;">3. nap</span></strong><br /><span styl
 e="font-size: 10pt;">A kÃ©regÃ¡llomÃ¡ny vezÃ©relte szervek elvÃ¡ltozÃ¡sai</
 span><br /><span style="font-size: 10pt;">FÃ©rfias Ã©s nÅ‘ies hormonÃ¡llapo
 t</span><br /><span style="font-size: 10pt;">FunkciÃ³-kimaradÃ¡sok, bÃ©nulÃ
 ¡sok, cukorszint vÃ¡ltozÃ¡sok</span><br /><strong><span style="font-size: 1
 0pt;">4. nap</span></strong><br /><span style="font-size: 10pt;">MentÃ¡lis 
 kÃ¼lÃ¶nprogramok</span><br /><span style="font-size: 10pt;">Hangulatzavarok
  Ã©s elmebajok - a leggyakoribb tÃ¼netek hÃ¡tterÃ©vel.</span><br /><span st
 yle="font-size: 10pt;">(MegzavarodottsÃ¡g, kÃ©nyszeres sÃ©rtegetÃ©s, Ã©rtÃ©
 kÃ­tÃ©leti zavarok, </span><br /><span style="font-size: 10pt;">mÃ¡nia, dep
 ressziÃ³, skizofrÃ©nia, fÃ³biÃ¡k Ã©s paranoiÃ¡k.)</span><br /><span style="
 font-size: 10pt;">&nbsp;</span></p><p><span style="font-size: 10pt;">Tanany
 ag: Biologika Szerv Atlasz</span><br /><span style="font-size: 10pt;">Rober
 to elÅ‘adÃ¡sainak prezentÃ¡ciÃ³s anyaga az Ãºj medicina kÃ©zikÃ¶nyvÃ©vÃ© nÅ
 ‘tte ki magÃ¡t. A Szerv Atlasz megvÃ¡sÃ¡rolhatÃ³ a webshopban vagy a trÃ©ni
 ngen. A Szerv Atlasz jelenleg az egyetlen Ãºj medicinÃ¡s kÃ©zikÃ¶nyv a vilÃ
 ¡gon.</span></p><p><span style="font-size: 10pt;">JelentkezÃ©skor add meg:<
 /span><br /><span style="font-size: 10pt;">1.) a trÃ©ning nevÃ©t, helyszÃ­n
 Ã©t Ã©s idÅ‘pontjÃ¡t</span><br /><span style="font-size: 10pt;">2.) pontos 
 nevedet</span><br /><span style="font-size: 10pt;">3.) mobil szÃ¡modat</spa
 n><br /><span style="font-size: 10pt;">4.) e-mail cÃ­medet</span><br /><spa
 n style="font-size: 10pt;">5.) kedvezmÃ©ny alapjÃ¡t (ha jogosult vagy)</spa
 n><br /><span style="font-size: 10pt;"><br style="font-size: 10pt;" /></spa
 n></p>
CONTACT:
 
 
 
 
 Ez az email cÃ­m vÃ©dett a spam robotoktÃ³l, a megtekintÃ©sÃ©hez engedÃ©lyezni kell a Javascriptet.
 
 
 , +36204838742

DTSTAMP:20260419T132745Z
DTSTART:20170408T070000Z
DTEND:20170408T150000Z
SEQUENCE:0
TRANSP:OPAQUE
END:VEVENT
END:VCALENDAR