BEGIN:VCALENDAR
VERSION:2.0
PRODID:-//jEvents 1.5 for Joomla//EN
BEGIN:VEVENT
CALSCALE:GREGORIAN
METHOD:PUBLISH

UID:de0d78b20c774d4aa79e3f274068257a
CATEGORIES:NyilvÃ¡nos Ã¶sszejÃ¶vetel
SUMMARY:OrlikI: Biologika KLUB (Szeged)
LOCATION:Szeged, CsongrÃ¡di sgt. 89. X. em. 58.
DESCRIPTION;ENCODING=QUOTED-PRINTABLE:<p><strong><span style="font-size: 12pt;">BIOLOGIKA (ÃšJ MEDICINA) KLUB</sp
 an></strong><strong><span style="font-size: 12pt;"><span style="color: #003
 366;"><br />Szegeden</span></span></strong></p><p><span style="font-size: 1
 0pt;"><br />TÃ©mÃ¡ja: <i><strong>A leukÃ©mia</strong></i></span></p><p><spa
 n style="font-size: 10pt;">idÅ‘pont: <strong>2017. Ã¡prilis 19.</strong> (s
 zerda) 17:30-20 Ã³rÃ¡ig</span></p><p><span style="font-size: 10pt;">lÃ©tszÃ
 ¡mkorlÃ¡t: nincs, de kÃ©rjÃ¼k, <strong>regisztrÃ¡lj</strong> e-mailben: 
 <
 script language='JavaScript' type='text/javascript'>
 <!--
 var prefix = 'm
 &#97;&#105;lt&#111;:';
 var suffix = '';
 var attribs = '';
 var path = 'hr
 ' + 'ef' + '=';
 var addy29894 = '&#105;c&#97;' + '&#64;';
 addy29894 = add
 y29894 + 'b&#105;&#111;l&#111;g&#105;k&#97;' + '&#46;' + 'h&#117;';
 docume
 nt.write( '<a ' + path + '\'' + prefix + addy29894 + suffix + '\'' + attrib
 s + '>' );
 document.write( addy29894 );
 document.write( '<\/a>' );
 //-->
 
 </script><script language='JavaScript' type='text/javascript'>
 <!--
 doc
 ument.write( '<span style=\'display: none;\'>' );
 //-->
 </script>Ez az em
 ail cÃ­m vÃ©dett a spam robotoktÃ³l, a megtekintÃ©sÃ©hez engedÃ©lyezni kell
  a Javascriptet.
 <script language='JavaScript' type='text/javascript'>
 <!
 --
 document.write( '</' );
 document.write( 'span>' );
 //-->
 </script>&n
 bsp;</span></p><p><span style="font-size: 10pt;">klubvezetÅ‘: </span><span 
 style="font-size: 10pt;"><strong>Orlik Ilona,</strong> Biologika, Ãºj medic
 ina trÃ©ner, konzulens <a href="partnereink/orlik-ilona-biologika.html">htt
 p://biologika.hu/partnereink/orlik-ilona-biologika.html</a></span></p><p><s
 pan style="font-size: 10pt;">helyszÃ­n: </span><span style="font-size: 10pt
 ;"><span style="color: #000000;"><strong>Szeged, CsongrÃ¡di sgt. 89. X. em.
  58.</strong> <br /></span></span></p><p><span style="font-size: 10pt;">rÃ©
 szvÃ©teli dÃ­j:</span> <span style="font-size: 10pt;"><span style="color: b
 lack;">bÃ©rleti dÃ­jhoz valÃ³ hozzÃ¡jÃ¡rulÃ¡sodat (500-1000,-Ft/fÅ‘) megkÃ¶
 szÃ¶njÃ¼k!<br /></span></span></p><p><span style="font-size: 10pt;"><span s
 tyle="color: black;"><span style="font-size: 10pt;"><span style="font-size:
  10pt;"><span style="font-size: 10pt;"><span style="font-size: 10pt;"><br /
 >JelentkezÃ©skor add meg:<br /></span></span></span></span></span></span><s
 pan style="font-size: 10pt;"><br /><span style="color: black;"><span style=
 "font-size: 10pt;"><span style="font-size: 10pt;"><span style="font-size: 1
 0pt;"><span style="font-size: 10pt;">1.) a klub idÅ‘pontjÃ¡t</span></span><
 /span></span></span><span style="color: black;"><span style="font-size: 10p
 t;"><span style="font-size: 10pt;"><span style="font-size: 10pt;"><br /><sp
 an style="font-size: 10pt;">2.) pontos nevedet</span><br /><span style="fon
 t-size: 10pt;">3.) mobil szÃ¡modat</span><br /><span style="font-size: 10pt
 ;">4.) e-mail cÃ­medet<br /></span></span></span></span></span></span></p>
CONTACT:
 
 
 
 
 Ez az email cÃ­m vÃ©dett a spam robotoktÃ³l, a megtekintÃ©sÃ©hez engedÃ©lyezni kell a Javascriptet.
 
 
 , +36204838742

DTSTAMP:20260419T132648Z
DTSTART:20170419T153000Z
DTEND:20170419T180000Z
SEQUENCE:0
TRANSP:OPAQUE
END:VEVENT
END:VCALENDAR