BEGIN:VCALENDAR
VERSION:2.0
PRODID:-//jEvents 1.5 for Joomla//EN
BEGIN:VEVENT
CALSCALE:GREGORIAN
METHOD:PUBLISH

UID:0bac93e05fd148fa3e0f4b3dd9c28dbf
CATEGORIES:Egyéb kapcsolódó tanfolyam
SUMMARY:OrlikI: Biologika Kismamáknak és Nőknek (Szeged)
LOCATION:Szeged, Nemes takács u. 8.
DESCRIPTION;ENCODING=QUOTED-PRINTABLE:\n\nBIOLOGIKA KISMAMÁKNAK ÉS NŐKNEK\nMinitanfolyam Szegeden\n\n\n&nbsp;\
 n\n\ntémakör: Biologika (újmedicina) előadás, elváltozástan, a megbe
 tegedések mechanizmusa\n\n\n\ntréner:&nbsp;Orlik Ilona, http://biologika.
 hu/partnereink/orlik-ilona-biologika.html\n\n\nhelyszín: Szeged, Nemes tak
 ács u. 8.\n\n\ndátum: 2017. április 2. \n\n\n\nebédszünet: nem tartunk
 , hozz magadnak harapnivalót. Kávé és tea van.\n \n\n\nkérdések, vál
 aszok: 17-18 óráig \n\nelőfeltétel:&nbsp;www.alapismeretek.biologika.hu
 &nbsp;online, ingyenes előadás megtekintése legalább kétszer\n\n\n\nr
 szvételi díj (nettó): 8.000.-Ft / fő \n\n\n\njelentkezési határidő:
  2017. március 27.\n\n\n\n\njelentkezés:&nbsp;írásos előregisztráció
  kötelező&nbsp;az 
 
 
 
 
 Ez az email cím védett a spam robotoktól, 
 a megtekintéséhez engedélyezni kell a Javascriptet.
 
 
  e-mail címen\
 n\n\n\nLeírás, tematika:\n\n\nAz élet továbbadása természetes folyama
 t. Maga az életben maradás is természetes alkalmazkodási folyamat eredm
 énye, melynek logikáját az öt biológiai természettörvény tárja fel
 . Az előadáson a női test szöveti elváltozásait és az azokhoz társ
 tható, bekapcsoló érzelmeket tekintjük át.\n– Rövid ismertető az 
 öt biológiai természettörvényről\n– Az anyaméh szerepe: befogadni,
  megtartani, kihordani az utódot\nHogyan segítik ezt a folyamatot szövet
 eink?\n– A női mell szerepe: “táplálni fészkem lakóit”\nNéhány
  elváltozásról biologikusan:\n– meddőség\n– húgyúti gyulladás\n
 – aranyér\n– cukorbetegség\n– HPV\n– magas vérnyomás \n– öd
 másodás\n\n\n\nAz előadás alapja: Biologika Szerv Atlasz Roberto előa
 dásainak prezentációs anyaga az új medicina kézikönyvévé nőtte ki 
 magát. A Szerv Atlasz megvásárolható a webshopban vagy a tréningen. A 
 Szerv Atlasz jelenleg az egyetlen új medicinás kézikönyv a világon.\n\
 n\n\nJelentkezéskor add meg:\n\n\n1.) a tréning nevét, helyszínét és 
 időpontját\n2.) pontos nevedet\n3.) mobil számodat\n4.) e-mail címedet\
 n5.) kedvezmény alapját (ha jogosult vagy)\n\n
CONTACT:
 
 
 
 
 Ez az email cím védett a spam robotoktól, a megtekintéséhez engedélyezni kell a Javascriptet.
 
 
 , +36204838742

DTSTAMP:20260419T143704Z
DTSTART:20170402T110000Z
DTEND:20170402T160000Z
SEQUENCE:0
TRANSP:OPAQUE
END:VEVENT
END:VCALENDAR