BEGIN:VCALENDAR
VERSION:2.0
PRODID:-//jEvents 1.5 for Joomla//EN
BEGIN:VEVENT
CALSCALE:GREGORIAN
METHOD:PUBLISH

UID:f0b2843f9554bbfc98ff9c6913536f99
CATEGORIES:Haladó szeminárium 
SUMMARY:OrlikI: Biologika Intenzív Tanfolyam 3/4 (Szeged)
LOCATION:Szeged, szervezés alatt
DESCRIPTION;ENCODING=QUOTED-PRINTABLE:<p><strong><span style="font-size: 12pt;">BIOLOGIKA (ÚJ MEDICINA) TRÉNING
 <br /><span style="font-size: 12pt; font-family: 'Liberation Serif','serif'
 ; color: black;">2 nap ALAP + 2 nap HALADÓ tanfolyam</span>&nbsp;</span></
 strong><strong><span style="font-size: 12pt;"><span style="color: #003366;"
 >Szegeden</span></span></strong></p><p><span style="font-size: 10pt;"><br /
 ></span></p><p><span style="font-size: 10pt;">elnevezés: Biologika (újmed
 icina) tanfolyam</span></p><p><span style="font-size: 10pt;">időtartam: <s
 pan style="color: #000000;"><strong>4 nap</strong>, 2017. április 8-9; áp
 rilis 23, április 30.<br /></span></span></p><p><span style="font-size: 10
 pt;">Figyelem! Ez egy több napos tréning, további információ az első 
 napnál, <a target="_blank" href="icalrepeat.detail/2017/04/08/4241/">ide k
 attintva</a></span><span style="font-size: 10pt;">.<br /><br /><br /></span
 ></p>
CONTACT:
 
 
 
 
 Ez az email cím védett a spam robotoktól, a megtekintéséhez engedélyezni kell a Javascriptet.
 
 
 , +36204838742

DTSTAMP:20260423T103524Z
DTSTART:20170423T070000Z
DTEND:20170423T150000Z
SEQUENCE:0
TRANSP:OPAQUE
END:VEVENT
END:VCALENDAR