BEGIN:VCALENDAR
VERSION:2.0
PRODID:-//jEvents 1.5 for Joomla//EN
BEGIN:VEVENT
CALSCALE:GREGORIAN
METHOD:PUBLISH

UID:5b67c0ea60d9cc63780d49a6a7195d3b
CATEGORIES:Haladó szeminárium 
SUMMARY:OrlikI: Biologika Intenzív Tanfolyam 4/4 (Szeged)
LOCATION:Szeged, szervezés alatt
DESCRIPTION;ENCODING=QUOTED-PRINTABLE:\n\nBIOLOGIKA (ÚJ MEDICINA) TRÉNING\n\n\n2 nap ALAP + 2 nap HALADÓ tanfo
 lyam&nbsp;Szegeden\n\n\n\n\n\n\nelnevezés: Biologika (újmedicina) tanfoly
 am\n\n\nidőtartam: 4 nap, 2017. április 8-9; április 23, április 30.\n\
 n\n\nFigyelem! Ez egy több napos tréning, további információ az első 
 napnál, ide kattintva.\n\n\n\n
CONTACT:
 
 
 
 
 Ez az email cím védett a spam robotoktól, a megtekintéséhez engedélyezni kell a Javascriptet.
 
 
 , +36204838742

DTSTAMP:20260419T201209Z
DTSTART:20170430T070000Z
DTEND:20170430T150000Z
SEQUENCE:0
TRANSP:OPAQUE
END:VEVENT
END:VCALENDAR