BEGIN:VCALENDAR
VERSION:2.0
PRODID:-//jEvents 1.5 for Joomla//EN
BEGIN:VEVENT
CALSCALE:GREGORIAN
METHOD:PUBLISH

UID:9e0ea3a00a94df0791d13fd8aaca3256
CATEGORIES:Szülésfelkészítő tréning
SUMMARY:BarnaiR: BIOLOGIKA Szülés-Születés tréning 1/1 (Budapest)
LOCATION:Pilisvörösvár, Szabadság u. 23/A.
DESCRIPTION;ENCODING=QUOTED-PRINTABLE:<p><b><span style="font-size: 12pt;">SZÜLÉS-SZÜLETÉS TRÉNING<br /></sp
 an></b><b><span style="font-size: 12pt;">1 napos tanfolyam<span class="Appl
 e-converted-space"> </span></span></b><b><span style="font-size: 12pt;"><sp
 an style="color: #003366;">Pilisvörösváron</span></span></b></p><p><b><s
 pan style="font-size: 12pt;">&nbsp;</span></b></p><p><span style="font-size
 : 10pt;">témakör: utódgondozás, családalapítás, szülésfelkészít
  tréning</span></p><p><span style="font-size: 10pt;">tréner:<span class=
 "Apple-converted-space">&nbsp;</span></span><span style="font-size: 10pt;">
 <strong>Barnai Roberto</strong>, Biologika, új medicina tréner, konzulens
 ,</span><span style="font-size: 10pt;"><span style="font-size: 10pt;"> </sp
 an><span style="font-size: 8pt;"><a href="partnereink/barnai-roberto.html">
 http://biologika.hu/partnereink/barnai-roberto.html</a> </span></span></p><
 p><span style="font-size: 10pt;">helyszín:<strong><span class="Apple-conve
 rted-space"> Pilisvörösvár</span></strong></span><span style="font-size:
  10pt;">, Szabadság u. 23/A<br />&nbsp;&nbsp;&nbsp;&nbsp;&nbsp;&nbsp;&nbsp
 ;&nbsp;&nbsp;&nbsp; (A parkolás díjmentes, tömegközlekedéssel is <em><
 strong>könnyen megközelíthető</strong></em>: Budapest Árpád híd busz
 végállomásról <br />&nbsp;&nbsp;&nbsp;&nbsp;&nbsp;&nbsp;&nbsp;&nbsp;&nb
 sp;&nbsp;&nbsp; a 820-as vagy 830-as volán busszal kb. 40 perc átszállá
 s nélkül, Pilisvörösvár, Eperjesi utca megállónál kell leszállni.)
 <br /><br /></span></p><p><span style="font-size: 10pt;">időtartam: 1 napo
 s, <strong>2017. május 20.&nbsp;</strong> </span></p><p><span style="font-
 size: 10pt;"></span><span style="font-size: 10pt;">ebédszünet: 13</span><
 span style="font-size: 10pt;">-14 óráig</span>&nbsp;</p><p><span style="f
 ont-size: 10pt;">előfeltétel:<span class="Apple-converted-space">&nbsp; <
 span style="font-size: 10pt;">A születéskurzuson való részvételhez meg
 előző tanfolyam vagy vizsga nem kötelező, tanfolyam ajánlott. </span><
 br /><span href="http://video.biologika.hu" target="_blank">Az is részt ve
 het, aki nem végzett még BIOLOGIKA tréninget (kistréninget vagy nagytr
 ninget), de mindenképpen <br />szükséges felkészülni. Tanfolyam előt
 t mindenképpen meg kell nézni az alapismeretek videókat <a href="http://
 www.eloadas.biologika.hu%20" target="_blank">eloadas.biologika.hu</a> <br /
 >Szükséges kicsit áttanulmányozni a szerv atlaszt (<span style="text-de
 coration: underline;"><a href="http://www.szervatlasz.hu">www.szervatlasz.h
 u</a></span>), </span><span style="font-size: 10pt;">és ha van, összeszed
 ni a személyes kérdéseket.</span></span></span></p><p><span style="font-
 size: 10pt;"><span class="Apple-converted-space"><span style="font-size: 10
 pt;"></span></span></span><span style="font-size: 10pt;"><br />részvételi
  díj:<span class="Apple-converted-space">&nbsp;</span><b>25.000,- Ft / fő
 </b>, ha <em>május 13. előtt</em> jelentkezel csak <strong>20.000,- Ft / 
 fő</strong></span></p><p><span style="font-size: 10pt;">beiratkozás:<span
  class="Apple-converted-space">&nbsp;</span></span><b><span style="color: #
 800000;"><span style="font-size: 10pt;">írásos előregisztráció kötele
 ző</span></span></b><span style="font-size: 10pt;"><span class="Apple-conv
 erted-space">&nbsp;</span>a<span class="Apple-converted-space">&nbsp;</span
 >leírás aljánál megadott e-mail címen</span><span style="font-size: 10
 pt;">&nbsp;</span></p><p><span style="font-size: 10pt;">jelentkezési hatá
 ridő: <b><span style="color: #800000;"><span style="font-size: 10pt;">2017
 . május 12.</span></span></b></span></p><p>&nbsp;</p><p><span style="font-
 size: 10pt;"><strong>Leírás, tematika:</strong></span><span style="font-s
 ize: 10pt;">&nbsp;</span></p><p><span style="font-size: 10pt;">SZÜLÉS-SZ
 LETÉS tréning <em>"A széltől is óvd a várandós kismamát!"</em></sp
 an><br /><span style="font-size: 10pt;">Szülés és születés a lehető l
 egkevesebb komplikációval<br /><br /></span></p><p><span style="font-size
 : 10pt;"></span><span style="font-size: 10pt;">1 napos, biologikus, prevenc
 iós szülésfelkészítő kurzus. A legközelebbi: <a href="http://www.szu
 les.biologika.hu">www.szules.biologika.hu</a>&nbsp;<br /></span></p><p><spa
 n style="font-size: 10pt;">Fontos, hasznos tudnivalók, lelkiismeretes embe
 reknek, családtervezőknek, várandós kismamáknak, az otthon és kórhá
 zban szülőknek, <br />kispapáknak, douláknak, bábáknak, szülészekne
 k, nőgyógyászoknak. A kurzus tartalma: </span><span style="font-size: 10
 pt;">a szüléssel, születéssel kapcsolatos <br />események, biológiai 
 konfliktusok, a lehetséges és a kiküszöbölhető komplikációk a fogan
 tatástól <br />a háborítatlan megszületésig - az új medicina, biolog
 ika, recallhealing tükrében.<br /><br /></span></p><p style="margin-left:
  30px;"><span style="font-size: 8pt;">A földi utazás kezdete - a fogamzá
 s. A várandósság, a gyermek testet öltése – egy másik értelmes bio
 lógiai különprogram&nbsp;</span><br /><span style="font-size: 8pt;">Gene
 tika, DNS-ünk - a biológiai tűzfal, az öröklődő betegségek babonáj
 a. Sejtosztódás menete és rendje, a csíralemezek kialakulása és jelen
 tősége. A biológiai természettörvények az egyedfejlődésben. Megbete
 gedések biológiai értelme. Az anya elváltozásának közvetlen hatása 
 a gyerekre a várandósság során. A biológiai konfliktusok egyénre SZÜ
 LŐRE gyakorolt fizikai és nem fizikai hatása. Viselkedészavarok és bet
 egségek átörökítése az utódokra. Recallhealing összetevői: újmedi
 cina, project purpose (Marc Frechet). A szülők biológiai biológiai kül
 önprogramjainak programozó hatása a gyerekre. Project purpose input szak
 aszok. Programozó hatások és viselkedésbeli válaszreakciós következm
 ények. A projekt purpose egy programozó szakasz, mely konfliktusra hajlam
 ossá teheti a gyermeket az egész életére. (+ csak említésképpen gene
 rációs szindróma - Ancestor-syndrome (Angeline Schützenberger) az ősö
 k programozó hatása a gyerekre. Timelineról itt csak érintőlegesen, L
 sd recallhealing.)<br /></span><br /><span style="font-size: 8pt;">A magza
 t mechanikai és mentális védelme „A széltől is óvd a várandós kis
 mamát!” Mechanikai behatások. Stimuláló anyagok: kávé, tea, Vegyi t
 erhelések, gyógyszerek, alkohol, mérgezések, dohányzás. </span><span 
 style="font-size: 8pt;">Egyéb behatások - mikró, röntgen, ultrahang, vi
 brátor, hanghatások, hilti, fúrógép, hangos zene. Fertőző betegsége
 k, vagy legalábbis az annak vélt tünetek kiküszöbölése. A burokgyull
 adás – az anya magzattámadási/magzatsérülési konfliktusa. Hüvely g
 ombásodás – nemi falatkonfliktusok az anyánál. Nemi betegségek – A
 IDS, a mondvacsinált betegség. Vérbaj (szifilisz) – elváltozások, am
 iket régen szifilisz néven deklaráltak de közük sincs vérbajhoz. Fert
 őző gyermekbénulás – méhen belüli menekülési konfliktus? Az anya 
 lehetséges tünetei, zavarai, komplikációi: Kívánósság, ájulások, 
 fejfájás, hormonális állapotváltozások, türelem, vashiány, vérszeg
 énység. A terhességi szagérzékenység és orrvérzés összefüggései
 , a lefutás ábrában a magyarázattal. Húgyúti panaszok, húgycső csí
 pése, hólyaggyulladás, gennyes vizelet. Hipertónia (magas vérnyomás) 
 - mikor jelentkezik hipertonia és mikor veszélyes? Láb, kéz vizesedés,
  ödémásodás – tünetek és okaik, veszélyre utaló jelek – elhagya
 tottsági konfliktus. Carpalis szindróma (csuklótáj kéz viszketése, f
 jdalma) - kézízületek gyógyulása, EPH gesztózis, terhességi toxémi
 a (edema+proteinuria+hipertonia – KA,EK – VGyCs szindróma) HELLP (EPH 
 gesztózis súlyosabb verziója, hirtelen tünetek véralvadási zavarokkal
 ). Terhességi rángógörcs, eklampszia, preeklampszia. Genitális herpesz
 , herpesz a nemi szerveken – nemi elválasztási konfliktusok. Gesztáci
 s diabétesz – ellenállási konfliktusok a várandósság alatt, és a 
 fellépő tünetek: cukorszint esés, farkaséhséggel, vagy cukorszint eme
 lkedés, és tünetei. Toxoplazmózis. gyomorégés, reflux okai, tünetei.
  Visszerek, érgörcsök. Hátráltatottsági önértékelési konfliktusok
  és az érelváltozások. Aranyér – Az identitáskonfliktus, a döntés
 konfliktus testi megnyilvánulása. Székrekedés, súlygyarapodás, túlh
 zás az utolsó hónapokban, derékfájdalmak, magzatszurkos, mekóniumos 
 magzatvíz. Lehetséges komplikációk, amit komolyan kell venni: méhlepé
 ny kedvezőtlen elhelyezkedése, alultáplálás, túltáplálás, VGYCSszi
 ndróma. Az erőltetett = időzített szülés veszélyei. A természetes, 
 háborítatlan szülés normális menete. Köldökzsinór előre esése, ny
 akra tekeredett köldökzsinór, anyai vérzéskonfliktus és következmén
 yei, vérzékenység és az újszülött életének veszélyeztetése. Hask
 eményedés – a szülés szelíd előjele. Méhösszehúzódások – a s
 imaizomszövet, a szülés akaratlagosan nem vezérelhető izommunka! Méhs
 zalag-fájdalmak. Az értelmes és az értelmetlen vizsgálatok, AFP 16. h
 t , Down szűrés erőltetés, riogatás, és következménye, a nyitott h
 átgerinc, magzatvízvétel (amniocentézis) kockázatok és veszélyek, sz
 ülészeti UH vizsgálatok 4 vizsg, CTG vizsgálat értelme és indokoltsá
 ga Vajúdás - enni, vagy nem enni? A szülő nő szükségletei. A szülé
 s szakaszai. Tágulási szakasz, A szülés lehetséges pozíciói: térdel
 ve, guggolva, vízben, állva, ahogy jólesik. Kitolási szakasz. A szülé
 s anatómiája – az anyatermészet mesterműve. Az önálló légzés bei
 ndulása, és annak természetes menete – „Ki mondta, hogy az újszül
 ttnek sírni kell?”A testi közelség, a testi érintés fontossága Az 
 újszülött és anya érintkezésének ellazító-méhösszehúzó hatása
  A méhlepény megszületése, fokozatos leválás, kórházi méhlepény-e
 lbánás. Az anya vérzéskonfliktusa, és vérzékenysége. Megfigyelési 
 szakasz. A gyermek szükségletei anya jelenléte, etetés/szoptatás, hőm
 érséklet, kényelmes ruházat. Elszakítás az anyáról. A bölcsőhalá
 l veszélye. A csecsemő vérzékenysége, bőrkiütések.&nbsp;</span></p>
 <p style="margin-left: 30px;"><br /><span style="font-size: 10pt;">Kifejeze
 tten ajánlott, témához kapcsolódó érdekes könyvek, olvasnivalók:</s
 pan></p><p style="margin-left: 30px;"><span style="font-size: 10pt;">Márki
  Anita – Otthon szültem</span><br /><span style="font-size: 10pt;">Ingeb
 org Stadelmann – a Bába válaszol</span><br /><span style="font-size: 10
 pt;">Sheila Kitzinger: A szülés árnyékában</span><br /><span style="fo
 nt-size: 10pt;">Dr. Robert S. Mendelsohn – Gyermekorvos nélkül</span><b
 r /><span style="font-size: 10pt;">Neill Z. Miller – Védőoltások – k
 érdések és kételyek</span><br /><span style="font-size: 10pt;">Jean Lie
 dloff – Az elveszett boldogság nyomában</span><br /><span style="font-s
 ize: 10pt;">Gilbert Renaud: Recallhealing – pyramid of health</span></p><
 p style="margin-left: 30px;"><span style="font-size: 10pt;"><br /></span></
 p>
CONTACT:
 
 
 
 
 Ez az email cím védett a spam robotoktól, a megtekintéséhez engedélyezni kell a Javascriptet.
 
 
 

DTSTAMP:20260423T103410Z
DTSTART:20170520T080000Z
DTEND:20170520T160000Z
SEQUENCE:0
TRANSP:OPAQUE
END:VEVENT
END:VCALENDAR