BEGIN:VCALENDAR
VERSION:2.0
PRODID:-//jEvents 1.5 for Joomla//EN
BEGIN:VEVENT
CALSCALE:GREGORIAN
METHOD:PUBLISH

UID:fdbeb947902ef2d4bd0922d9c133d1c7
CATEGORIES:Alap szeminárium 
SUMMARY:ElekNoémi: Biologika Intenzív Tanfolyam 4/4 (Budapest)
LOCATION:Budapest, szervezés alatt
DESCRIPTION;ENCODING=QUOTED-PRINTABLE:<p><strong><span style="font-size: 12pt;">BIOLOGIKA (ÚJ MEDICINA) TRÉNING
 </span></strong></p><p><strong><span style="font-size: 12pt;"><span style="
 font-size: 12pt; font-family: 'Liberation Serif','serif'; color: black;">3 
 nap ALAP + 1 nap HALADÓ tanfolyam</span> </span></strong><strong><span sty
 le="font-size: 12pt;"><span style="color: #003366;">Budapesten</span></span
 ></strong></p><p><span style="font-size: 10pt;"><br /></span></p><p><span s
 tyle="font-size: 10pt;">elnevezés: Biologika (újmedicina) tanfolyam</span
 ></p><p><span style="font-size: 10pt;">időtartam: <span style="color: #000
 000;"><strong>4 nap</strong>, 2017. június 3-4; 10-11.<br /></span></span>
 </p><p><span style="font-size: 10pt;">Figyelem! Ez egy több napos tréning
 , további információ az első napnál, <a target="_blank" href="icalrepe
 at.detail/2017/06/03/4252/">ide kattintva</a></span><span style="font-size:
  10pt;">.<br /><br /><br /></span></p>
CONTACT:
 
 
 
 
 Ez az email cím védett a spam robotoktól, a megtekintéséhez engedélyezni kell a Javascriptet.
 
 
 ; +36703603980

DTSTAMP:20260423T085812Z
DTSTART:20170611T080000Z
DTEND:20170611T150000Z
SEQUENCE:0
TRANSP:OPAQUE
END:VEVENT
END:VCALENDAR