BEGIN:VCALENDAR
VERSION:2.0
PRODID:-//jEvents 1.5 for Joomla//EN
BEGIN:VEVENT
CALSCALE:GREGORIAN
METHOD:PUBLISH

UID:95f264b82e806ff55190fde61bfd5c3c
CATEGORIES:Alap szeminárium 
SUMMARY:EgriBiologikaKör: Biologika ALAP tanfolyam 3/4 (Budapest)
LOCATION:Budapest, szervezés alatt
DESCRIPTION;ENCODING=QUOTED-PRINTABLE:\n\n&nbsp;\nBIOLOGIKA (GNM ÚJ MEDICINA) TANFOLYAM&nbsp;\n\n\n4 napos&nbsp;
 ALAP&nbsp;tanfolyam&nbsp; Budapesten\n\n\n\nelnevezés: Biologika (Új Medi
 cina)&nbsp;alap tanfolyam&nbsp;\n\n\nidőtartam: 4 nap\n \n\n\nFigyelem! Ez
  egy több napos tréning, további információ az első napnál, ide katt
 intva.\n
CONTACT:
 
 
 
 
 Ez az email cím védett a spam robotoktól, a megtekintéséhez engedélyezni kell a Javascriptet.
 
 
 , +36302079509

DTSTAMP:20260419T133928Z
DTSTART:20170624T080000Z
DTEND:20170624T160000Z
SEQUENCE:0
TRANSP:OPAQUE
END:VEVENT
END:VCALENDAR