BEGIN:VCALENDAR
VERSION:2.0
PRODID:-//jEvents 1.5 for Joomla//EN
BEGIN:VEVENT
CALSCALE:GREGORIAN
METHOD:PUBLISH

UID:ee66b35e96c89cbff0aeae0ee85228a0
CATEGORIES:Egyéb kapcsolódó tanfolyam
SUMMARY:HerczegA: Biologikus Elsősegély tanfolyam (Budapest)
LOCATION:Budapest, V.kerület, Hercegprímás utca. 13
DESCRIPTION;ENCODING=QUOTED-PRINTABLE:\n\n\nBIOLOGIKUS ELSŐSEGÉLY&nbsp;\n Egynapos tanfolyam&nbsp;Budapesten\n\
 n\n&nbsp;\n\n\ntémakör: Biologika (újmedicina) intenzív tréning, elvá
 ltozástan, a megbetegedések mechanizmusa\n\n\nLétszámkorlát: 30 fő\n\
 n\ntréner:&nbsp;dr. Herczeg Andrea, http://biologika.hu/partnereink/dr-her
 czeg-andrea.html\n\n\nhelyszín: Budapest, V. ker. Hercegprímás u. 13.\n\
 n\nidőtartam: 1 napos, 2017. július 2. \n\n\n\nebédszünet: 13-14 órái
 g&nbsp;\n\n\nkérdések, válaszok: 17-18 óráig\n\n\nelőfeltétel:&nbsp;
 5 biológiai természettörvény&nbsp;online, ingyenes előadás megtekint
 se\n\n\nrészvételi díj (1 nap): 20.000,- Ft / fő\n\n\nismétlő vagy k
 orkedvezmény (18 alatt és 60 felett) érvényesítése esetén a részvé
 teli díj&nbsp;15.000,- Ft / fő &nbsp;\n\n\njelentkezés:&nbsp;írásos el
 őregisztráció kötelező&nbsp;a&nbsp;leírás aljánál megadott e-mail 
 címen\n\njelentkezési határidő: 2017. június 30. \n\n\n\n\n\n\n\nLeír
 ás, tematika:\n\n\nA biológiai természettörvények szerint lejátszód
  gyógyulási folyamatok, helyreállítási szakaszok során előfordulhat
 nak súlyos, életveszélyes állapotok is. \nHa ezekre felkészülünk, me
 gértjük a folyamatot kiváltó tényezőket, megőrizzük a nyugalmunkat 
 és a józan eszünket, \nsokat segíthetünk magunkon,hozzátartozóinkon,
  barátainkon.\nEzen a tanfolyamon nem aszokásos elsősegély ismeretekrő
 l lesz szó, hanem azokról a helyzetekről, akut megbetegedésekről, \nam
 elyek súlyos tünetekkel járnak, az újmedicina alapjainak ismeretében 
 rthetők és kiszámíthatók, de mégis ijesztő állapotok. \nA tanfolya
 m résztvevői olyan ismeretekkel bővíthetik tudásukat, amely átsegíti
 k a betegeket ezeken a szakaszokon, de nem a tünetek egyszerű elnyomásá
 val, hanem úgy hogy ösztönzi, segíti a gyógyulást a helyreállítási
  szakaszban. A tananyag összeállításában több évtizedes gyakorlattal
  rendelkező mentőorvos, homeopata gyermekorvos, gyógyszerész vett rész
 t.\n\nTematika:\nszívinfarktus, szívleállás, tüdőembólia, agyi katas
 ztrófák, eszméletvesztés, ödéma, allergiás reakciók, vízvisszatart
 ás, trombózis,epilepszia, asztmás roham,krupp, epe- vesegörcs, akut lá
 zas állapotok-lázgörcs, csalánkiütés, hányás,hasmenés-fenyegető k
 iszáradás, törés,ficam, vérzés, égés (következmények).&nbsp;\n\n\
 nJelentkezéskor add meg:\n1.) a tréning nevét, helyszínét és időpont
 ját(!)\n2.) pontos nevedet\n3.) mobil számodat\n4.) e-mail címedet\n5.) 
 kedvezmény alapját (ha jogosult vagy)\n\n\n&nbsp;\n
CONTACT:
 
 
 
 
 Ez az email cím védett a spam robotoktól, a megtekintéséhez engedélyezni kell a Javascriptet.
 
 
 

DTSTAMP:20260419T135741Z
DTSTART:20170702T080000Z
DTEND:20170702T160000Z
SEQUENCE:0
TRANSP:OPAQUE
END:VEVENT
END:VCALENDAR