BEGIN:VCALENDAR
VERSION:2.0
PRODID:-//jEvents 1.5 for Joomla//EN
BEGIN:VEVENT
CALSCALE:GREGORIAN
METHOD:PUBLISH

UID:b72e82f9ba3af945c9471770f2ea60c8
CATEGORIES:Alap szeminárium 
SUMMARY:EgriBiologikaKör: Biologika ALAP tanfolyam 3/4 (Budapest)
LOCATION:1071 Budapest, Murányi utca 61. 2.em. 13.
DESCRIPTION;ENCODING=QUOTED-PRINTABLE:<p>&nbsp;</p><p style="color: #000000; font-family: 'Helvetica', 'Arial', s
 ans-serif; font-size: 11px; font-style: normal; font-variant: normal; font-
 weight: 400; letter-spacing: normal; line-height: normal; text-indent: 0px;
  text-transform: none; white-space: normal; word-spacing: 0px;"><b><span st
 yle="font-size: 12pt;">BIOLOGIKA (GNM ÚJ MEDICINA) TANFOLYAM&nbsp;</span><
 /b></p><p><b><span style="font-size: 12pt;">4 napos<span class="Apple-conve
 rted-space">&nbsp;</span>ALAP<span class="Apple-converted-space">&nbsp;</sp
 an>tanfolyam (hétköznap)<span class="Apple-converted-space">&nbsp;<span c
 lass="Apple-converted-space"> </span><b style="color: #000000; font-family:
  'Helvetica', 'Arial', sans-serif; font-size: 11px; font-style: normal; fon
 t-variant: normal; letter-spacing: normal; line-height: normal; text-indent
 : 0px; text-transform: none; white-space: normal; word-spacing: 0px; backgr
 ound-color: #ffffff;"><span style="font-size: 12pt;"><span style="color: #0
 03366;">Budapesten</span></span></b></span></span></b></p><p><span style="f
 ont-size: 10pt;"><br />elnevezés: <span style="color: #000000; font-family
 : 'Helvetica', 'Arial', sans-serif; font-size: 13px; font-style: normal; fo
 nt-variant: normal; font-weight: 400; letter-spacing: normal; line-height: 
 normal; text-indent: 0px; text-transform: none; white-space: normal; word-s
 pacing: 0px; display: inline !important; float: none; background-color: #ff
 ffff;">Biologika (Új Medicina)</span><span class="Apple-converted-space" s
 tyle="color: #000000; font-family: 'Helvetica', 'Arial', sans-serif; font-s
 ize: 13px; font-style: normal; font-variant: normal; font-weight: 400; lett
 er-spacing: normal; line-height: normal; text-indent: 0px; text-transform: 
 none; white-space: normal; word-spacing: 0px; background-color: #ffffff;"><
 span class="Apple-converted-space">&nbsp;</span>alap tanfolyam</span>&nbsp;
 </span></p><p><span style="font-size: 10pt;">időtartam: <span style="color
 : #000000;"><strong>4 nap 2017. június 20-21 és 27-28</strong><b><br /></
 b><span style="color: #000000; font-family: 'Helvetica', 'Arial', sans-seri
 f; font-size: 11px; font-style: normal; font-variant: normal; font-weight: 
 400; letter-spacing: normal; line-height: normal; text-indent: 0px; text-tr
 ansform: none; white-space: normal; word-spacing: 0px; display: inline !imp
 ortant; float: none; background-color: #ffffff;"></span> </span></span></p>
 <p><span style="font-size: 10pt;">Figyelem! Ez egy több napos tréning, to
 vábbi információ az első napnál, <a href="http://biologika.hu/icalrepe
 at.detail/2017/06/20/4270/egribiologikakoer-biologika-alap-tanfolyam-14-bud
 apest.html" target="_blank">ide kattintva</a></span><span style="font-size:
  10pt;">.</span></p>
CONTACT:
 
 
 
 
 Ez az email cím védett a spam robotoktól, a megtekintéséhez engedélyezni kell a Javascriptet.
 
 
 , +36302079509

DTSTAMP:20260423T084820Z
DTSTART:20170627T080000Z
DTEND:20170627T160000Z
SEQUENCE:0
TRANSP:OPAQUE
END:VEVENT
END:VCALENDAR