BEGIN:VCALENDAR
VERSION:2.0
PRODID:-//jEvents 1.5 for Joomla//EN
BEGIN:VEVENT
CALSCALE:GREGORIAN
METHOD:PUBLISH

UID:b72e82f9ba3af945c9471770f2ea60c8
CATEGORIES:Alap szeminÃ¡rium 
SUMMARY:EgriBiologikaKÃ¶r: Biologika ALAP tanfolyam 3/4 (Budapest)
LOCATION:1071 Budapest, MurÃ¡nyi utca 61. 2.em. 13.
DESCRIPTION;ENCODING=QUOTED-PRINTABLE:\n\n&nbsp;\nBIOLOGIKA (GNM ÃšJ MEDICINA) TANFOLYAM&nbsp;\n\n\n4 napos&nbsp;
 ALAP&nbsp;tanfolyam (hÃ©tkÃ¶znap)&nbsp; Budapesten\n\n\n\nelnevezÃ©s: Biolo
 gika (Ãšj Medicina)&nbsp;alap tanfolyam&nbsp;\n\n\nidÅ‘tartam: 4 nap 2017. 
 jÃºnius 20-21 Ã©s 27-28\n \n\n\nFigyelem! Ez egy tÃ¶bb napos trÃ©ning, tovÃ
 ¡bbi informÃ¡ciÃ³ az elsÅ‘ napnÃ¡l, ide kattintva.\n
CONTACT:
 
 
 
 
 Ez az email cÃ­m vÃ©dett a spam robotoktÃ³l, a megtekintÃ©sÃ©hez engedÃ©lyezni kell a Javascriptet.
 
 
 , +36302079509

DTSTAMP:20260423T100959Z
DTSTART:20170627T080000Z
DTEND:20170627T160000Z
SEQUENCE:0
TRANSP:OPAQUE
END:VEVENT
END:VCALENDAR